BEGIN:VCALENDAR
VERSION:2.0
PRODID:-//STRAWANZERIN - ECPv4.9.5//NONSGML v1.0//EN
CALSCALE:GREGORIAN
METHOD:PUBLISH
X-WR-CALNAME:STRAWANZERIN
X-ORIGINAL-URL:https://www.strawanzerin.at
X-WR-CALDESC:Veranstaltungen im STRAWANZERIN
BEGIN:VTIMEZONE
TZID:"Europe/Vienna"
BEGIN:DAYLIGHT
TZOFFSETFROM:+0100
TZOFFSETTO:+0200
TZNAME:CEST
DTSTART:20240331T010000
END:DAYLIGHT
BEGIN:STANDARD
TZOFFSETFROM:+0200
TZOFFSETTO:+0100
TZNAME:CET
DTSTART:20241027T010000
END:STANDARD
END:VTIMEZONE
BEGIN:VEVENT
DTSTART;TZID="Europe/Vienna":20240528T180000
DTEND;TZID="Europe/Vienna":20240528T200000
DTSTAMP:20260422T151350
CREATED:20240507T135147Z
LAST-MODIFIED:20240507T135147Z
UID:98804-1716919200-1716926400@www.strawanzerin.at
SUMMARY:Wie erfindet man sich als JournalistIn immer wieder neu\, Saskia Jungnikl-Gossy?
DESCRIPTION:Sie hat als freie und als angestellte Journalistin für Wochen- und Tageszeitungen und Magazine geschrieben\, ist Podcast-Host und Buchautorin: Die freie Journalistin Saskia Jungnikl-Gossy ist mit unterschiedlichsten journalistischen Formaten vertraut. \nIhre Stationen waren u.a. beim Falter\, Datum und Standard\, wo sie sich auf österreichische Innenpolitik spezialisiert hat. Sie hat immer wieder für das Wochenmagazin Profil und die Österreich-Ausgabe der ZEIT geschrieben. Im Standard veröffentlichte sie 2013 einen vielbeachteten Artikel über den Suizid ihres Vaters\, für den sie mit dem Claus-Gatterer-Preis und dem Prälat-Leopold-Ungar-JournalistInnenpreis ausgezeichnet wurde. Sie ist Autorin von bislang drei Büchern: Papa hat sich erschossen (S. Fischer\, 2014)\, Eine Reise ins Leben oder wie ich lernte\, die Angst vor dem Tod zu überwinden (S. Fischer\, 2014) und Kommen Sie näher (Molden Verlag\, 2023)\, eine Biografie über Peter Simonischek. Darüber hinaus gestaltet Saskia diverse Podcasts\, etwa für die Österreichischen Nationalparks\, den Innovator\, die WKÖ und das Bildungsministerium und ist monatlicher Host für den Podcast „Ganz offen gesagt“. \nBeim Aufmacher im Mai wollen wir mit Saskia darüber sprechen\, warum Veränderung im Journalismus so wichtig ist und wie man sich als Journalist*in immer wieder neu erfindet. Sie wird uns erzählen\, wie sie als freie Journalistin Fuß gefasst hat und wie ihr Alltag aussieht. Wir werden mit ihr diskutieren\, welche stilistischen Unterschiede und Herausforderungen verschiedene Textformen und Medien mit sich bringen und wo sie die Grenze zwischen Journalismus und PR und Corporate Publishing zieht. \nWie immer wird es ausreichend Zeit für Publikumsfragen geben. Anschließend lassen wir den Abend bei Knabbereien und Getränken ausklingen. \nWann & wo?\nDienstag\, 28. Mai 2024 um 18 Uhr (!!Achtung diesmal schon um 18h!!)\nRepublikanischer Club\nFischerstiege 1-7 (Gassenlokal neben Bahoe Books)\n1010 Wien\nDas Lokal ist über eine Stufe erreichbar. Das WC ist leider nicht behindertengerecht.\nDer Eintritt ist frei!\n(c) Rafaela Pröll \n
URL:https://www.strawanzerin.at/termin/wie-erfindet-man-sich-als-journalistin-immer-wieder-neu-saskia-jungnikl-gossy/
LOCATION:Republikanischer Club\, Fischerstiege 1-7\, 1010 Wien\, Fischerstiege 1-7\, Wien\, Wien\, 1010\, Österreich
CATEGORIES:Deutsch,freie Spende,Gratis,Medien,Treffen,Vortrag/Symposium,Wien
ATTACH;FMTTYPE=image/jpeg:https://www.strawanzerin.at/wp-content/uploads/2024/05/saskia030rafaelaproell.jpeg
END:VEVENT
END:VCALENDAR