BEGIN:VCALENDAR
VERSION:2.0
PRODID:-//STRAWANZERIN - ECPv4.9.5//NONSGML v1.0//EN
CALSCALE:GREGORIAN
METHOD:PUBLISH
X-WR-CALNAME:STRAWANZERIN
X-ORIGINAL-URL:https://www.strawanzerin.at
X-WR-CALDESC:Veranstaltungen im STRAWANZERIN
BEGIN:VTIMEZONE
TZID:"Europe/Vienna"
BEGIN:DAYLIGHT
TZOFFSETFROM:+0100
TZOFFSETTO:+0200
TZNAME:CEST
DTSTART:20240331T010000
END:DAYLIGHT
BEGIN:STANDARD
TZOFFSETFROM:+0200
TZOFFSETTO:+0100
TZNAME:CET
DTSTART:20241027T010000
END:STANDARD
END:VTIMEZONE
BEGIN:VEVENT
DTSTART;TZID="Europe/Vienna":20240131T200000
DTEND;TZID="Europe/Vienna":20240131T220000
DTSTAMP:20260422T013001
CREATED:20240122T103716Z
LAST-MODIFIED:20240122T103716Z
UID:96265-1706731200-1706738400@www.strawanzerin.at
SUMMARY:Wie man nach einem Massaker humanistisch bleibt in 17 Schritten
DESCRIPTION:Die Autorin Maya Arad Yasur hat kurz nach dem Massaker der Hamas in Israel einen Theatertext verfasst. Regisseurin Sapir Heller hat zu dem beeindruckenden Text eine Performance mit anschließender Diskussionsrunde im Kontext des Stückes entwickelt. \n
URL:https://www.strawanzerin.at/termin/wie-man-nach-einem-massaker-humanistisch-bleibt-in-17-schritten/2024-01-31/
LOCATION:Theater Nestroyhof / Hamakom\, Nestroypl. 1\, Wien\, Wien\, 1020\, Österreich
CATEGORIES:Theater/Kabarett
ATTACH;FMTTYPE=image/jpeg:https://www.strawanzerin.at/wp-content/uploads/2024/01/Maya-Arad-Yasur_Massaker_c_Adi-Segal-scaled.jpg
END:VEVENT
END:VCALENDAR