BEGIN:VCALENDAR
VERSION:2.0
PRODID:-//STRAWANZERIN - ECPv4.9.5//NONSGML v1.0//EN
CALSCALE:GREGORIAN
METHOD:PUBLISH
X-WR-CALNAME:STRAWANZERIN
X-ORIGINAL-URL:https://www.strawanzerin.at
X-WR-CALDESC:Veranstaltungen im STRAWANZERIN
BEGIN:VTIMEZONE
TZID:"Europe/Vienna"
BEGIN:DAYLIGHT
TZOFFSETFROM:+0100
TZOFFSETTO:+0200
TZNAME:CEST
DTSTART:20230326T010000
END:DAYLIGHT
BEGIN:STANDARD
TZOFFSETFROM:+0200
TZOFFSETTO:+0100
TZNAME:CET
DTSTART:20231029T010000
END:STANDARD
END:VTIMEZONE
BEGIN:VEVENT
DTSTART;TZID="Europe/Vienna":20230522T180000
DTEND;TZID="Europe/Vienna":20230522T200000
DTSTAMP:20260421T031307
CREATED:20230515T173757Z
LAST-MODIFIED:20230515T173757Z
UID:91506-1684778400-1684785600@www.strawanzerin.at
SUMMARY:Wie rational sind Tiere? – Eine kognitionsbiologische Spurensuche
DESCRIPTION:Die Frage\, ob Tiere rational denken können und ob sie ein Bewusstsein haben\, gehört zu den spannendsten und vielfach diskutierten Fragen der Biologie. Kognitionsbiologe Ludwig Huber wird im Vortrag zeigen\, dass die menschliche Rationalität und die Art\, wie Tiere denken\, nicht so scharf voneinander abgegrenzt werden kann\, wie man ursprünglich angenommen hat. \n
URL:https://www.strawanzerin.at/termin/wie-rational-sind-tiere-eine-kognitionsbiologische-spurensuche/
LOCATION:1040\, Diplomatische Akademie\, Favoritenstraße 15a\, Wien\, 1040\, Österreich
CATEGORIES:Gratis
ORGANIZER;CN="Club%20of%20Vienna":MAILTO:sekretariat@clubofvienna.org
END:VEVENT
END:VCALENDAR