BEGIN:VCALENDAR
VERSION:2.0
PRODID:-//STRAWANZERIN - ECPv4.9.5//NONSGML v1.0//EN
CALSCALE:GREGORIAN
METHOD:PUBLISH
X-WR-CALNAME:STRAWANZERIN
X-ORIGINAL-URL:https://www.strawanzerin.at
X-WR-CALDESC:Veranstaltungen im STRAWANZERIN
BEGIN:VTIMEZONE
TZID:"Europe/Vienna"
BEGIN:DAYLIGHT
TZOFFSETFROM:+0100
TZOFFSETTO:+0200
TZNAME:CEST
DTSTART:20220327T010000
END:DAYLIGHT
BEGIN:STANDARD
TZOFFSETFROM:+0200
TZOFFSETTO:+0100
TZNAME:CET
DTSTART:20221030T010000
END:STANDARD
END:VTIMEZONE
BEGIN:VEVENT
DTSTART;TZID="Europe/Vienna":20220503T190000
DTEND;TZID="Europe/Vienna":20220503T190000
DTSTAMP:20260423T181140
CREATED:20220311T102623Z
LAST-MODIFIED:20220314T130339Z
UID:83306-1651604400-1651604400@www.strawanzerin.at
SUMMARY:Wie weiter? #6 – Zur Zukunft der Kulturinstitutionen
DESCRIPTION:Viele große und auch dezentrale\, kleine Kulturinstitutionen haben eine Geschichte\, in der immer wieder Wandlungen und Neupositionierungen erfolgt sind. Anlässlich der Zäsur durch die Covid-Krise wollen wir mit dieser Reihe nachfragen\, wie es nun weitergeht. Welche Überlegungen\, Strategien und Zukunftsvisionen gibt es in Bezug auf das Ausstellungsmachen\, auf Aufführungskonzepte und auf das Verhältnis zum Publikum? Sind Demokratisierungskonzepte angedacht? Konnten – bei allen Schwierigkeiten – aus der Krise neue Ideen gewonnen werden? \nKrist Gruijthuijsen\, Direktor KW Institute for Contemporary Art Berlin\nVerena Kaspar-Eisert\, Kuratorin Kunsthaus Wien\nModeration: Martin Fritz\, Kurator\, Berater\, Publizist\, Wien \nFoto © Bureau Kies \n
URL:https://www.strawanzerin.at/termin/wie-weiter-6-zur-zukunft-der-kulturinstitutionen/
LOCATION:Depot – Kunst und Diskussion\, Breite Gasse 3\, Wien\, 1070\, Österreich
CATEGORIES:Deutsch,Gratis,Kunst/Kultur,Vortrag/Symposium,Wien
ATTACH;FMTTYPE=image/jpeg:https://www.strawanzerin.at/wp-content/uploads/2022/03/K1A7206_c_Bureau_Kies-6-scaled.jpg
ORGANIZER;CN="Depot%20-%20Kunst%20und%20Diskussion":MAILTO:depot@depot.or.at
END:VEVENT
END:VCALENDAR