BEGIN:VCALENDAR
VERSION:2.0
PRODID:-//STRAWANZERIN - ECPv4.9.5//NONSGML v1.0//EN
CALSCALE:GREGORIAN
METHOD:PUBLISH
X-WR-CALNAME:STRAWANZERIN
X-ORIGINAL-URL:https://www.strawanzerin.at
X-WR-CALDESC:Veranstaltungen im STRAWANZERIN
BEGIN:VTIMEZONE
TZID:"Europe/Vienna"
BEGIN:DAYLIGHT
TZOFFSETFROM:+0100
TZOFFSETTO:+0200
TZNAME:CEST
DTSTART:20190331T010000
END:DAYLIGHT
BEGIN:STANDARD
TZOFFSETFROM:+0200
TZOFFSETTO:+0100
TZNAME:CET
DTSTART:20191027T010000
END:STANDARD
END:VTIMEZONE
BEGIN:VEVENT
DTSTART;TZID="Europe/Vienna":20191104T200000
DTEND;TZID="Europe/Vienna":20191123T200000
DTSTAMP:20260423T142052
CREATED:20190919T082547Z
LAST-MODIFIED:20191002T125115Z
UID:68148-1572897600-1574539200@www.strawanzerin.at
SUMMARY:Wiederaufnahme wegen des großen Erfolges!  All das Schöne  von Duncan Macmillan mit Jonny Donahoe
DESCRIPTION:Österreichische Erstaufführung\, Eigenproduktion Theater Drachengasse \nTheater Drachengasse\, 4. – 23. November 2019\, Di-Sa um 20 Uhr \nTu’s nicht. Halte durch. Es wird wieder anders. Wer weiß\, was dich im Leben noch erwartet. \nSchokolade. Wasserschlachten. Achterbahnen. Drei von unzähligen Dingen\, die eine Siebenjährige nach dem Selbstmordversuch ihrer Mutter auflistet\, um sie an die Schönheit des Lebens zu erinnern. Mit jedem Wort auf der Liste wächst auch der Lebensmut der Siebenjährigen\, den sie zehn Jahre später erneut braucht. Auch wenn die Mutter wieder gerettet wird – diesmal von einer Pizza Hawaii. \nInzwischen ein Teenager\, landen auf ihrer Liste freundliche Katzen\, sich verlieben und bekocht werden\, bis sie im Erwachsenenalter bei einer Million endet. Eine Million\, die sie davon überzeugen soll\, dass es unendlich viele Gründe gibt weiter zu leben. \nBrilliant ist diese österreichische Erstaufführung in der Tat. Falter\nMichaela Bilgeri führt mit großer Leichtfüßigkeit durch den Abend. Der Standard\nEine musikalische und unsentimentale konsequente Inszenierung. Wiener Zeitung \nRegie: Esther Muschol\nBühne\, Kostüm: Ágnes Hamvas\nMusik: Rupert Derschmidt\nRegieassistenz: Carmen Jelovcan\nEs spielen: Michaela Bilgeri\, Andreas Dauböck \nFoto: Andreas Friess \nRechte bei Rowohlt Theaterverlag Hamburg \n
URL:https://www.strawanzerin.at/termin/wiederaufnahme-wegen-des-grossen-erfolges-all-das-schoene-von-duncan-macmillan-mit-jonny-donahoe/
CATEGORIES:Kunst/Kultur,Musik,Theater/Kabarett,Wien
ATTACH;FMTTYPE=image/jpeg:https://www.strawanzerin.at/wp-content/uploads/2019/09/AdS_026.jpg
END:VEVENT
END:VCALENDAR