BEGIN:VCALENDAR
VERSION:2.0
PRODID:-//STRAWANZERIN - ECPv4.9.5//NONSGML v1.0//EN
CALSCALE:GREGORIAN
METHOD:PUBLISH
X-WR-CALNAME:STRAWANZERIN
X-ORIGINAL-URL:https://www.strawanzerin.at
X-WR-CALDESC:Veranstaltungen im STRAWANZERIN
BEGIN:VTIMEZONE
TZID:"Europe/Paris"
BEGIN:DAYLIGHT
TZOFFSETFROM:+0100
TZOFFSETTO:+0200
TZNAME:CEST
DTSTART:20150329T010000
END:DAYLIGHT
BEGIN:STANDARD
TZOFFSETFROM:+0200
TZOFFSETTO:+0100
TZNAME:CET
DTSTART:20151025T010000
END:STANDARD
END:VTIMEZONE
BEGIN:VEVENT
DTSTART;TZID="Europe/Paris":20150910T130000
DTEND;TZID="Europe/Paris":20150910T130000
DTSTAMP:20260423T143559
CREATED:20150910T114035Z
LAST-MODIFIED:20150915T101149Z
UID:19686-1441890000-1441890000@www.strawanzerin.at
SUMMARY:Wiener Linien Blues Band
DESCRIPTION:Neben eigenen Songs basiert die Hauptrichtung der Musik von WLBB auf dem Blues im Stile von „Stevie Ray Vaughan; (SRV)“. Es werden unter anderem Coverversionen von „Cold Shot\, Couldn’t Stand The Weather” geboten\, aber hie und da kann dann auch schon mal “Voodoo Chile” passieren. \n
URL:https://www.strawanzerin.at/termin/wiener-linien-blues-band/
LOCATION:Traditionscafé Industrie\, Margaretengürtel 12\, Wien\, Wien\, 1050\, Österreich
CATEGORIES:Deutsch,freie Spende,Musik,Sonstiges,Wien
ATTACH;FMTTYPE=image/jpeg:https://www.strawanzerin.at/wp-content/uploads/2015/09/wlbb_fb.jpg
ORGANIZER;CN="Ruth%20Binder":MAILTO:event@cafe-industrie.at
GEO:48.1838252;16.3664539
X-APPLE-STRUCTURED-LOCATION;VALUE=URI;X-ADDRESS=Traditionscafé Industrie Margaretengürtel 12 Wien Wien 1050 Österreich;X-APPLE-RADIUS=500;X-TITLE=Margaretengürtel 12:geo:16.3664539,48.1838252
END:VEVENT
END:VCALENDAR