BEGIN:VCALENDAR
VERSION:2.0
PRODID:-//STRAWANZERIN - ECPv4.9.5//NONSGML v1.0//EN
CALSCALE:GREGORIAN
METHOD:PUBLISH
X-WR-CALNAME:STRAWANZERIN
X-ORIGINAL-URL:https://www.strawanzerin.at
X-WR-CALDESC:Veranstaltungen im STRAWANZERIN
BEGIN:VTIMEZONE
TZID:"Europe/Vienna"
BEGIN:DAYLIGHT
TZOFFSETFROM:+0100
TZOFFSETTO:+0200
TZNAME:CEST
DTSTART:20190331T010000
END:DAYLIGHT
BEGIN:STANDARD
TZOFFSETFROM:+0200
TZOFFSETTO:+0100
TZNAME:CET
DTSTART:20191027T010000
END:STANDARD
END:VTIMEZONE
BEGIN:VEVENT
DTSTART;TZID="Europe/Vienna":20190517T170000
DTEND;TZID="Europe/Vienna":20190517T183000
DTSTAMP:20260420T184559
CREATED:20190507T153057Z
LAST-MODIFIED:20190517T090541Z
UID:65012-1558112400-1558117800@www.strawanzerin.at
SUMMARY:Wiener Symphoniker in F23
DESCRIPTION:Die Wiener Symphoniker kommen auf ihrer Tour durch die Wiener Gemeindebezirke wieder in den 23. Bezirk. Für ihre populären Grätzl-Konzerte verlassen die Wiener Symphoniker ihre traditionellen Spielstätten im Wiener Konzerthaus und Musikverein und spielen für ihr Publikum in neuen und teilweise ungewöhnlichen Konzertorten. \nJung und Alt sind in der F23 herzlich willkommen. 17.5.2019\, Einlass und Buffet ab 16:00 \n
URL:https://www.strawanzerin.at/termin/wiener-symphoniker-in-f23/
LOCATION:F23.wir.fabriken\, Breitenfurter Strasse 176\, Wien\, Wien\, 1230\, Österreich
CATEGORIES:Musik
ATTACH;FMTTYPE=image/jpeg:https://www.strawanzerin.at/wp-content/uploads/2019/05/GrätzlkonzertKLEIN-1.jpg
ORGANIZER;CN="F23.wir.fabriken":MAILTO:technik@f23.at
END:VEVENT
END:VCALENDAR