BEGIN:VCALENDAR
VERSION:2.0
PRODID:-//STRAWANZERIN - ECPv4.9.5//NONSGML v1.0//EN
CALSCALE:GREGORIAN
METHOD:PUBLISH
X-WR-CALNAME:STRAWANZERIN
X-ORIGINAL-URL:https://www.strawanzerin.at
X-WR-CALDESC:Veranstaltungen im STRAWANZERIN
BEGIN:VTIMEZONE
TZID:"Europe/Paris"
BEGIN:DAYLIGHT
TZOFFSETFROM:+0100
TZOFFSETTO:+0200
TZNAME:CEST
DTSTART:20150329T010000
END:DAYLIGHT
BEGIN:STANDARD
TZOFFSETFROM:+0200
TZOFFSETTO:+0100
TZNAME:CET
DTSTART:20151025T010000
END:STANDARD
END:VTIMEZONE
BEGIN:VEVENT
DTSTART;TZID="Europe/Paris":20150430T200000
DTEND;TZID="Europe/Paris":20150430T230000
DTSTAMP:20260420T114214
CREATED:20150416T094712Z
LAST-MODIFIED:20150416T160546Z
UID:13906-1430424000-1430434800@www.strawanzerin.at
SUMMARY:Willi Landl (Österreich)
DESCRIPTION:„Willi Landl ist nicht grenz- sondern ganzgenial.“\n(A. Krondraf\, Concerto)\nIst das Jazz\, der zum Lachen nicht in den Keller geht? Ist es Pop für Popskeptiker? Sind es extravagante Chansons\, die Willi Landl da so gekonnt und doch nie abgehoben vorträgt? Der Sänger selbst spricht von Kunstliedern. Allerdings nicht wie in Schubert\, Schumann und Brahms\, sondern vielmehr wie in: Willi Landl\, genremäßig nicht eindeutig zuordenbar. (Gerhard Stöger\, Falter)\nLandl will das Rad nicht neu erfinden und tut es doch beinahe. Seine Musik ist zukunftsweisend\, oszilliert zwischen Kunstlied und Popsong in deutscher Sprache\, fürchtet keine emotionale Nähe und wird trotzdem nie pathetisch\, ist humorvoll\, aber nie komödiantisch\, mitunter tiefgründig und doch niemals schwer. Eigenständig respektlos nähert sich der Komponist und Sänger mit der schnörkellosen Erzählstimme dem Genremix und spielt lustvoll damit\, tatkräftig begleitet von einem famosen Akustik-Trio. \nWilli Landl – Stimme\nChristian Grobauer – Schlagzeug\nStefan Thaler – Kontrabass\nMichael Hornek – Keyboard  \n
URL:https://www.strawanzerin.at/termin/willi-landl-oesterreich/
LOCATION:Sargfabrik\, Goldschlagstraße 169\, Wien\, Wien\, 1140\, Österreich
CATEGORIES:Deutsch,Eintrittspreis,Musik,Wien
ATTACH;FMTTYPE=image/jpeg:https://www.strawanzerin.at/wp-content/uploads/2015/04/LandlWilli_k_1504.jpg
GEO:48.1951903;16.3046279
X-APPLE-STRUCTURED-LOCATION;VALUE=URI;X-ADDRESS=Sargfabrik Goldschlagstraße 169 Wien Wien 1140 Österreich;X-APPLE-RADIUS=500;X-TITLE=Goldschlagstraße 169:geo:16.3046279,48.1951903
END:VEVENT
END:VCALENDAR