BEGIN:VCALENDAR
VERSION:2.0
PRODID:-//STRAWANZERIN - ECPv4.9.5//NONSGML v1.0//EN
CALSCALE:GREGORIAN
METHOD:PUBLISH
X-WR-CALNAME:STRAWANZERIN
X-ORIGINAL-URL:https://www.strawanzerin.at
X-WR-CALDESC:Veranstaltungen im STRAWANZERIN
BEGIN:VTIMEZONE
TZID:"Europe/Helsinki"
BEGIN:DAYLIGHT
TZOFFSETFROM:+0200
TZOFFSETTO:+0300
TZNAME:EEST
DTSTART:20160327T010000
END:DAYLIGHT
BEGIN:STANDARD
TZOFFSETFROM:+0300
TZOFFSETTO:+0200
TZNAME:EET
DTSTART:20161030T010000
END:STANDARD
END:VTIMEZONE
BEGIN:VEVENT
DTSTART;TZID="Europe/Helsinki":20161124T170000
DTEND;TZID="Europe/Helsinki":20161124T220000
DTSTAMP:20260421T172754
CREATED:20161107T114825Z
LAST-MODIFIED:20161107T114825Z
UID:36066-1480006800-1480024800@www.strawanzerin.at
SUMMARY:Winterfest im POOL7
DESCRIPTION:–	Großer Kunsthandwerk Saison-Abverkauf\n–	Kulinarische Schmankerl und Punsch vom POOL7 Catering\n–	Verkostungen der Grüner Kreis-Genussessenzen: Apfelsaft\, Olivenöl\, Essige und Fruchtaufstriche\n–	Live-Musik \nPOOL7 ist Kunstgalerie\, Verkaufsgeschäft für Kunsthandwerk und Genuss-Shop für hochwertige Lebensmittel. Aktuelle Ausstellung „Multiple Fiktionen“ von Greta Znojemsky im Rahmen von „eyes on- Monat der Fotografie“ \nab 19 Uhr: Benefiz-Auktion\n„Ein Weg\, ein Bild“ ist der Name des diesjährigen Abschlussprojekts des Vereins „Talente Österreich“\, das im Zeichen der Flüchtlingssituation steht. Gemeinsam mit BewohnerInnen des Caritas Notquartiers in der Pfeiffergasse 2 wurden Leinwände künstlerisch gestaltet. Die dabei entstandenen Bilder sollen im Rahmen des Abschlussevents zugunsten der mitwirkenden Flüchtlingseinrichtung versteigert werden.\nKOMMEN SIE VORBEI – WIR FREUEN UNS AUF SIE! \n
URL:https://www.strawanzerin.at/termin/winterfest-im-pool7-2/
LOCATION:POOL7\, Rudolfsplatz 9\, Wien\, Wien\, 1010\, Österreich
ORGANIZER;CN="POOL7":MAILTO:office@pool7.at
GEO:48.213565;16.3719448
X-APPLE-STRUCTURED-LOCATION;VALUE=URI;X-ADDRESS=POOL7 Rudolfsplatz 9 Wien Wien 1010 Österreich;X-APPLE-RADIUS=500;X-TITLE=Rudolfsplatz 9:geo:16.3719448,48.213565
END:VEVENT
END:VCALENDAR