BEGIN:VCALENDAR
VERSION:2.0
PRODID:-//STRAWANZERIN - ECPv4.9.5//NONSGML v1.0//EN
CALSCALE:GREGORIAN
METHOD:PUBLISH
X-WR-CALNAME:STRAWANZERIN
X-ORIGINAL-URL:https://www.strawanzerin.at
X-WR-CALDESC:Veranstaltungen im STRAWANZERIN
BEGIN:VTIMEZONE
TZID:"Europe/Vienna"
BEGIN:DAYLIGHT
TZOFFSETFROM:+0100
TZOFFSETTO:+0200
TZNAME:CEST
DTSTART:20250330T010000
END:DAYLIGHT
BEGIN:STANDARD
TZOFFSETFROM:+0200
TZOFFSETTO:+0100
TZNAME:CET
DTSTART:20251026T010000
END:STANDARD
END:VTIMEZONE
BEGIN:VEVENT
DTSTART;TZID="Europe/Vienna":20250130T193000
DTEND;TZID="Europe/Vienna":20250130T210000
DTSTAMP:20260420T210713
CREATED:20241202T123227Z
LAST-MODIFIED:20241202T123243Z
UID:105010-1738265400-1738270800@www.strawanzerin.at
SUMMARY:„Winterkonzert“ des Schwarzenberg Trios
DESCRIPTION:Der Konzertzyklus\, unterstützt von FCP\, geht weiter! Am 30. Jänner 2025 findet das Winterkonzert als zweite Aufführung dreier Konzerte des Schwarzenberg Trios mit Werken von Wolfgang Amadeus Mozart\, Dmitri Dmitrijewtisch Schostakowitsch und Bedřich Smetana. \nIm stilvollen Ambiente des historischen Konzertsaals des Hauses der Ingenieure verzaubern Sie die herausragenden Künstler Hanna Bachmann\, Roland Lindenthal und Franz-Markus Siegert. Das Konzert von einer exklusiven Weinverkostung begleitet. \nAbendkassa:\n• Regulär: 35 €\n• Student:innen\, Schüler:innen: 18 € \nMehr Infos & Tickets:\n📩 https://schwarzenbergtrio.com/ \n
URL:https://www.strawanzerin.at/termin/winterkonzert-des-schwarzenberg-trios/
LOCATION:Haus der Ingenieure\, Palais Eschenbach\, Eschenbachgasse 9\, Wien\, Wien\, 1010\, Österreich
CATEGORIES:Eintrittspreis,Musik,Wien
ATTACH;FMTTYPE=image/jpeg:https://www.strawanzerin.at/wp-content/uploads/2024/12/Flyer_Weihnachtsgeschenk.jpg
ORGANIZER;CN="Schwarzenberg%20Trio":MAILTO:info@schwarzenbergtrio.com
END:VEVENT
END:VCALENDAR