BEGIN:VCALENDAR
VERSION:2.0
PRODID:-//STRAWANZERIN - ECPv4.9.5//NONSGML v1.0//EN
CALSCALE:GREGORIAN
METHOD:PUBLISH
X-WR-CALNAME:STRAWANZERIN
X-ORIGINAL-URL:https://www.strawanzerin.at
X-WR-CALDESC:Veranstaltungen im STRAWANZERIN
BEGIN:VTIMEZONE
TZID:"Europe/Helsinki"
BEGIN:DAYLIGHT
TZOFFSETFROM:+0200
TZOFFSETTO:+0300
TZNAME:EEST
DTSTART:20140330T010000
END:DAYLIGHT
BEGIN:STANDARD
TZOFFSETFROM:+0300
TZOFFSETTO:+0200
TZNAME:EET
DTSTART:20141026T010000
END:STANDARD
END:VTIMEZONE
BEGIN:VEVENT
DTSTART;TZID="Europe/Helsinki":20141117T100000
DTEND;TZID="Europe/Helsinki":20141117T100000
DTSTAMP:20260422T041249
CREATED:20141117T093651Z
LAST-MODIFIED:20141117T093651Z
UID:8592-1416218400-1416218400@www.strawanzerin.at
SUMMARY:Winterzeit ist Winterfestzeit
DESCRIPTION:Die Zelte im Volksgarten stehen schon und locken heuer mit vier Produktionen aus Frankreich und Spanien. Cie Akoreacro machen den Auftakt und begeistern mit halsbrecherischer Akrobatik und exaktem Zusammenspiel. Im Matamore-Zelt ist Platz für die Harlekine\, Hampelmänner und Casnovas und bei Cirque Aïtal bekommt man einen humorvollen Einblick in das Leben eines Artistenpaares. Daneben gibt es im Spiegelzelt wieder Konzerte und Tanzpalastabende. Das Winterfest läuft bis zum 6. Jänner 2015 im Volksgarten Salzburg. (Foto: Niels Benoist) \n
URL:https://www.strawanzerin.at/termin/winterzeit-ist-winterfestzeit/2014-11-17/
LOCATION:Volksgarten Salzburg\, Hundertwasser Allee\, Salzburg\, Salzburg\, 5020\, Österreich
CATEGORIES:Fest,Salzburg
ATTACH;FMTTYPE=:
GEO:47.7972589;13.0596368
X-APPLE-STRUCTURED-LOCATION;VALUE=URI;X-ADDRESS=Volksgarten Salzburg Hundertwasser Allee Salzburg Salzburg 5020 Österreich;X-APPLE-RADIUS=500;X-TITLE=Hundertwasser Allee:geo:13.0596368,47.7972589
END:VEVENT
END:VCALENDAR