BEGIN:VCALENDAR
VERSION:2.0
PRODID:-//STRAWANZERIN - ECPv4.9.5//NONSGML v1.0//EN
CALSCALE:GREGORIAN
METHOD:PUBLISH
X-WR-CALNAME:STRAWANZERIN
X-ORIGINAL-URL:https://www.strawanzerin.at
X-WR-CALDESC:Veranstaltungen im STRAWANZERIN
BEGIN:VTIMEZONE
TZID:"Europe/Helsinki"
BEGIN:DAYLIGHT
TZOFFSETFROM:+0200
TZOFFSETTO:+0300
TZNAME:EEST
DTSTART:20160327T010000
END:DAYLIGHT
BEGIN:STANDARD
TZOFFSETFROM:+0300
TZOFFSETTO:+0200
TZNAME:EET
DTSTART:20161030T010000
END:STANDARD
END:VTIMEZONE
BEGIN:VEVENT
DTSTART;TZID="Europe/Helsinki":20160331T193000
DTEND;TZID="Europe/Helsinki":20160331T213000
DTSTAMP:20260422T003613
CREATED:20160205T120802Z
LAST-MODIFIED:20160205T120802Z
UID:24083-1459452600-1459459800@www.strawanzerin.at
SUMMARY:WIP7- Wissenschaft im POOL7
DESCRIPTION:Dr. med. Dr. phil. Ambros Uchtenhagen\nEm. Professor für Sozialpsychiatrie Universität Zürich\, Leiter des Instituts für Sucht- und Gesundheitsforschung in Zürich\, Gründer von European Addiction Research und des Forschungsverbunds EASAR\, Mitglied des WHO expert panel on drugs. Zahlreiche Projekte für UN-Behörden\, Europäische Kommission\, Europarat\, nationale Behörden u.a. \, Autor zahlreicher Fachpublikationen \nSüchtig sein bedeutet meist Entfremdung – vom eigenen Selbst und der Umwelt. Andersherum bedeutet Fremdsein auch die Gefahr\, suchtkrank zu werden. Allerdings\, so meint Prof. Ambros Uchtenhagen\, ist nicht das Fremdsein\, sondern die fehlende Integration oftmals das Problem. \nEintritt frei! Wir bitten um Anmeldung! \n
URL:https://www.strawanzerin.at/termin/wip7-wissenschaft-im-pool7-3/
LOCATION:POOL7\, Rudolfsplatz 9\, Wien\, Wien\, 1010\, Österreich
CATEGORIES:Deutsch,freie Spende,Vortrag/Symposium,Wien
ATTACH;FMTTYPE=image/jpeg:https://www.strawanzerin.at/wp-content/uploads/2016/01/uchtenhagen_MED.jpg
ORGANIZER;CN="Philippa%20Rudnay":MAILTO:office@pool7.at
GEO:48.213565;16.3719448
X-APPLE-STRUCTURED-LOCATION;VALUE=URI;X-ADDRESS=POOL7 Rudolfsplatz 9 Wien Wien 1010 Österreich;X-APPLE-RADIUS=500;X-TITLE=Rudolfsplatz 9:geo:16.3719448,48.213565
END:VEVENT
END:VCALENDAR