BEGIN:VCALENDAR
VERSION:2.0
PRODID:-//STRAWANZERIN - ECPv4.9.5//NONSGML v1.0//EN
CALSCALE:GREGORIAN
METHOD:PUBLISH
X-WR-CALNAME:STRAWANZERIN
X-ORIGINAL-URL:https://www.strawanzerin.at
X-WR-CALDESC:Veranstaltungen im STRAWANZERIN
BEGIN:VTIMEZONE
TZID:"Europe/Vienna"
BEGIN:DAYLIGHT
TZOFFSETFROM:+0100
TZOFFSETTO:+0200
TZNAME:CEST
DTSTART:20240331T010000
END:DAYLIGHT
BEGIN:STANDARD
TZOFFSETFROM:+0200
TZOFFSETTO:+0100
TZNAME:CET
DTSTART:20241027T010000
END:STANDARD
END:VTIMEZONE
BEGIN:VEVENT
DTSTART;TZID="Europe/Vienna":20240707T110000
DTEND;TZID="Europe/Vienna":20240707T180000
DTSTAMP:20260425T140441
CREATED:20240607T112523Z
LAST-MODIFIED:20240607T112523Z
UID:99953-1720350000-1720375200@www.strawanzerin.at
SUMMARY:WIR DRUCKEN UNS DAS GELD\, WIE ES UNS GEFÄLLT
DESCRIPTION:Das Ausstellungshaus Spoerri lädt zum Linoldruck-Workshop für Kinder. \nDie Geschichte des Geldes beginnt etwa vor 15.000 Jahren mit Dingen. Muscheln\, Perlen oder Federn waren die ersten Zahlungsmittel. Diese Objekte wurden aufgrund ihrer Seltenheit\, Schönheit oder Nützlichkeit als wertvoll erachtet und als Tauschmittel verwendet.\nIm Ausstellungshaus Spoerri sind Dinge zu sehen\, deren Wert sich oft erst auf den zweiten Blick erkennen lässt. Kochlöffel\, Spiegel\, Geschirr\, alte Orden\, abgelegtes Spielzeug\, ausgediente Werkzeuge… \nBeim Workshop schauen werden Geldscheine unter die Lupe genommen. Sieht man dem Schein seinen Wert an? \nUnd warum nicht gleich ein paar Scheine selbst drucken?! \nZunächst erfolgt die Motivauswahl\, dann darf jeder seinen eigenen Geldschein gestalten\, und anschließend wird auch schon gedruckt! Am Ende des Workshops gehen die Kinder natürlich mit ihren eigenen Kunstdrucken nach Hause – also mit den Taschen voller Geld! \nDauer: 7h inkl. Pause mit Stärkung\nUnkostenbeitrag 20 €\nTeilnehmerzahl: Bis zu 12 Kinder\, Mindestalter: 8 Jahre.\nAnmeldung an office@spoerri.at \n
URL:https://www.strawanzerin.at/termin/wir-drucken-uns-das-geld-wie-es-uns-gefaellt/
LOCATION:Ausstellungshaus Spoerri\, Hauptplatz 23\, Hadersdorf am Kamp\, Niederösterreich\, 3493\, Österreich
CATEGORIES:Bildung,Deutsch,Kinderkultur,Kunst/Kultur,Niederösterreich,Workshop
ATTACH;FMTTYPE=image/jpeg:https://www.strawanzerin.at/wp-content/uploads/2024/06/Bildschirmfoto-attention-3-farbig-6er-2.jpg
ORGANIZER;CN="Ausstellungshaus%20Spoerri":MAILTO:office@spoerri.at
END:VEVENT
END:VCALENDAR