BEGIN:VCALENDAR
VERSION:2.0
PRODID:-//STRAWANZERIN - ECPv4.9.5//NONSGML v1.0//EN
CALSCALE:GREGORIAN
METHOD:PUBLISH
X-WR-CALNAME:STRAWANZERIN
X-ORIGINAL-URL:https://www.strawanzerin.at
X-WR-CALDESC:Veranstaltungen im STRAWANZERIN
BEGIN:VTIMEZONE
TZID:"Europe/Helsinki"
BEGIN:DAYLIGHT
TZOFFSETFROM:+0200
TZOFFSETTO:+0300
TZNAME:EEST
DTSTART:20150329T010000
END:DAYLIGHT
BEGIN:STANDARD
TZOFFSETFROM:+0300
TZOFFSETTO:+0200
TZNAME:EET
DTSTART:20151025T010000
END:STANDARD
END:VTIMEZONE
BEGIN:VEVENT
DTSTART;TZID="Europe/Helsinki":20150414T183000
DTEND;TZID="Europe/Helsinki":20150414T210000
DTSTAMP:20260420T145315
CREATED:20150411T133250Z
LAST-MODIFIED:20150413T163528Z
UID:12856-1429036200-1429045200@www.strawanzerin.at
SUMMARY:WIR ÜBERNEHMEN! Selbstverwaltete Betriebe in Argentinien
DESCRIPTION:Argentinien 2001: Auf Krise\, Aufstand und Sturz der Regierung folgten neue Formen der Selbstorganisierung. Statt der Pleite zuzusehen\, übernahmen Arbeiter_innen ihre Betriebe. Trotz aller Widrigkeiten bestehen viele heute immer noch\, neue kommen hinzu. Aus der Not ist ein Reichtum an Erfahrungen entstanden\, die über das Bestehende hinausweisen und andernorts aufgegriffen werden.\nJuan Pablo Hudson hat sich nicht nur mit den spektakulären Anfängen der Bewegung\, mit Besetzungen und heftigen Kämpfen um Fabriken beschäftigt. Er hat die Compañer@s verschiedener übernommener Betriebe in Rosario jahrelang begleitet – als Forscher und Unterstützer im Rahmen einer militanten Untersuchung\, die nicht nur Wissen erheben\, sondern selbst in die untersuchten Zusammenhänge eingreifen möchte. Ohne vorschnelle Antworten zu liefern\, inspirieren Hudsons Forschungspraxis und -ergebnisse zum Nachdenken und Selbermachen. \nJuan Pablo Hudson lebt in Rosario (Argentinien) und arbeitet als Sozialwissenschaftler am staatlichen Institut für Wissenschaftsförderung CONICET. Er ist Mitglied im Club de Investigaciones Urbanas\, einem Kollektiv\, das sich der militanten Untersuchung urbaner Konflikte widmet. \n
URL:https://www.strawanzerin.at/termin/wir-uebernehmen-selbstverwaltete-betriebe-in-argentinien/
LOCATION:Österreich
CATEGORIES:Deutsch,Gratis,Soziale Kämpfe,Vortrag/Symposium,Wien
ATTACH;FMTTYPE=image/jpeg:https://www.strawanzerin.at/wp-content/uploads/2015/04/cover_hudson.jpg
END:VEVENT
END:VCALENDAR