BEGIN:VCALENDAR
VERSION:2.0
PRODID:-//STRAWANZERIN - ECPv4.9.5//NONSGML v1.0//EN
CALSCALE:GREGORIAN
METHOD:PUBLISH
X-WR-CALNAME:STRAWANZERIN
X-ORIGINAL-URL:https://www.strawanzerin.at
X-WR-CALDESC:Veranstaltungen im STRAWANZERIN
BEGIN:VTIMEZONE
TZID:"Europe/Vienna"
BEGIN:DAYLIGHT
TZOFFSETFROM:+0100
TZOFFSETTO:+0200
TZNAME:CEST
DTSTART:20230326T010000
END:DAYLIGHT
BEGIN:STANDARD
TZOFFSETFROM:+0200
TZOFFSETTO:+0100
TZNAME:CET
DTSTART:20231029T010000
END:STANDARD
END:VTIMEZONE
BEGIN:VEVENT
DTSTART;TZID="Europe/Vienna":20230612T180000
DTEND;TZID="Europe/Vienna":20230612T193000
DTSTAMP:20260421T050723
CREATED:20230515T174142Z
LAST-MODIFIED:20230515T174142Z
UID:91477-1686592800-1686598200@www.strawanzerin.at
SUMMARY:Wirtschaftskrieg Russland – EU
DESCRIPTION:Wie Russland den Krieg gegen die Ukraine durch den Energiekrieg gegen die EU gewinnen will \nDer Vortrag rollt auf\, wie Russland bereits seit spätestens 2014 einen Wirtschaftskrieg gegen die EU führt\, welche Rolle dabei die Unterstützung EU-kritischer Parteien spielte und wie Russland den EU Gasmarkt manipuliert. Die EU kann ihre Gasimporte über LNG leichter diversifizieren als Russland seine Exporte; Österreich ist aufgrund hoher Abhängigkeiten von Gaslieferungen aber in einer prekären Lage. Franz Nauschnigg erklärt\, warum es zum Anstieg der Gaspreise gekommen ist\, was Putin im Schilde führt und welche Rolle die Sanktionen spielen. \n
URL:https://www.strawanzerin.at/termin/wirtschaftskrieg-russland-eu/
LOCATION:VHS Wiener Urania\, Uraniastraße 1\, Wien\, Wien\, 1010\, Österreich
ATTACH;FMTTYPE=image/jpeg:https://www.strawanzerin.at/wp-content/uploads/2023/05/20060719_Wiener-Urania-c-VHS-Wiener-Urania_KLEINER-17.jpg
ORGANIZER;CN="VHS%20Wiener%20Urania":MAILTO:urania@vhs.at
END:VEVENT
END:VCALENDAR