BEGIN:VCALENDAR
VERSION:2.0
PRODID:-//STRAWANZERIN - ECPv4.9.5//NONSGML v1.0//EN
CALSCALE:GREGORIAN
METHOD:PUBLISH
X-WR-CALNAME:STRAWANZERIN
X-ORIGINAL-URL:https://www.strawanzerin.at
X-WR-CALDESC:Veranstaltungen im STRAWANZERIN
BEGIN:VTIMEZONE
TZID:"Europe/Vienna"
BEGIN:DAYLIGHT
TZOFFSETFROM:+0100
TZOFFSETTO:+0200
TZNAME:CEST
DTSTART:20220327T010000
END:DAYLIGHT
BEGIN:STANDARD
TZOFFSETFROM:+0200
TZOFFSETTO:+0100
TZNAME:CET
DTSTART:20221030T010000
END:STANDARD
END:VTIMEZONE
BEGIN:VEVENT
DTSTART;TZID="Europe/Vienna":20220118T183000
DTEND;TZID="Europe/Vienna":20220118T203000
DTSTAMP:20260420T205425
CREATED:20211214T130040Z
LAST-MODIFIED:20211215T172810Z
UID:82168-1642530600-1642537800@www.strawanzerin.at
SUMMARY:Wissen Dekolonisieren. Silence\, Wissen und Machtstrukturen
DESCRIPTION:Vortrag von Emily Ngubia Kessé \n11. Januar 2022\, 18:30 Uhr\nonline – Anmeldung \n„The academic centre is not a neutral location. It is a white space where Black people have been denied the privilege to speak.“\n(Kilomba\, 2010; 27) \nKnowledge has always had an agenda – to sustain power relations. To whose advantage? – But how do epistemologies achieve this agenda? Translated to the field of neuroscience\, I would like to focus on how practices of silencing contribute to the stabilization and maintenance of power and domination relations in the processes of knowledge production and transfer. I hope to make visible the (colonial) racist norms that are invisible to many members of the majority population. \nEmily Ngubia Kessé\, Dr. rer. Medic extends research addressing the challenge of investigating socially constructed categories in science. She investigates how the categories of race & gender shape the ‚doing‘ of new bio-tech research and in the production of bio-objects. In addition to her academic work\, she is skilled & interested in establishing networks between public and private sectors\, working between diverse disciplinary focuses that require innovative/creative engagement. \nDer Vortrag ist in englischer Sprache und findet im Rahmen der Online-Ringvorlesung des Referat Genderforschung statt. \nAnmeldung hier: https://gender.univie.ac.at/veranstaltungen/ringvorlesung-gender-studies/aktuelle-ringvorlesung-politiken-der-un-sichtbarkeit/anmeldung-politiken-der-un-sichtbarkeit/  \n
URL:https://www.strawanzerin.at/termin/wissen-dekolonisieren-silence-wissen-und-machtstrukturen-2/
LOCATION:online
ORGANIZER;CN="Frauensolidarit%C3%A4t":MAILTO:c.temper@frauensolidaritaet.org
END:VEVENT
END:VCALENDAR