BEGIN:VCALENDAR
VERSION:2.0
PRODID:-//STRAWANZERIN - ECPv4.9.5//NONSGML v1.0//EN
CALSCALE:GREGORIAN
METHOD:PUBLISH
X-WR-CALNAME:STRAWANZERIN
X-ORIGINAL-URL:https://www.strawanzerin.at
X-WR-CALDESC:Veranstaltungen im STRAWANZERIN
BEGIN:VTIMEZONE
TZID:"Europe/Vienna"
BEGIN:DAYLIGHT
TZOFFSETFROM:+0100
TZOFFSETTO:+0200
TZNAME:CEST
DTSTART:20250330T010000
END:DAYLIGHT
BEGIN:STANDARD
TZOFFSETFROM:+0200
TZOFFSETTO:+0100
TZNAME:CET
DTSTART:20251026T010000
END:STANDARD
END:VTIMEZONE
BEGIN:VEVENT
DTSTART;TZID="Europe/Vienna":20251120T183000
DTEND;TZID="Europe/Vienna":20251120T203000
DTSTAMP:20260423T195829
CREATED:20251106T152051Z
LAST-MODIFIED:20251106T152051Z
UID:110804-1763663400-1763670600@www.strawanzerin.at
SUMMARY:Wohlklang für die Seele
DESCRIPTION:Bolschoi Don Kosaken konzertieren im November mehrmals in Niederösterreich \nDer Herbst hält Einzug im Land und mit ihm die stimmgewaltigen Bolschoi Don Kosaken. Am Donnerstag\, dem 20. November um 18:30 Uhr gastiert der traditionsreiche Chor unter der Leitung von Prof. Petja Houdjakov in der Pfarrkirche in Bad Fischau-Brunn\, am Freitag\, den 21. November um 19:30 Uhr in der Pfarrkirche St. Severin in Tulln\, am Sonntag\, den 23. November um 16:00 Uhr in der Pfarrkirche Weikendorf und am Samstag\, den 29. November um 15:30 Uhr in der Pfarrkirche St. Jakobus in Purkersdorf. Auf dem musikalischen Programm stehen festlich-sakrale Gesänge aus der Orthodoxie und beliebte Volkslieder aus Ost und West. Und am Dienstag\, dem 23. Dezember 2025 um 19:30 Uhr stimmen die sangesfreudigen Herren im Wiener Konzerthaus aus den Heiligen Abend ein \nKarten:\nTel. +43 664 301 52 10 \nFoto/© Bolschoi Don Kosaken \n
URL:https://www.strawanzerin.at/termin/wohlklang-fuer-die-seele/
LOCATION:Pfarrkirche Bad Fischau-Brunn\, Hauptstraße 24\, Bad Fischau-Brunn\, Niederösterreich\, 2721\, Österreich
CATEGORIES:ab 7,Kunst/Kultur,Musik,Niederösterreich
ATTACH;FMTTYPE=image/jpeg:https://www.strawanzerin.at/wp-content/uploads/2025/11/BDK-in-der-KircheG-Kopie.jpeg
END:VEVENT
END:VCALENDAR