BEGIN:VCALENDAR
VERSION:2.0
PRODID:-//STRAWANZERIN - ECPv4.9.5//NONSGML v1.0//EN
CALSCALE:GREGORIAN
METHOD:PUBLISH
X-WR-CALNAME:STRAWANZERIN
X-ORIGINAL-URL:https://www.strawanzerin.at
X-WR-CALDESC:Veranstaltungen im STRAWANZERIN
BEGIN:VTIMEZONE
TZID:"Europe/Vienna"
BEGIN:DAYLIGHT
TZOFFSETFROM:+0100
TZOFFSETTO:+0200
TZNAME:CEST
DTSTART:20220327T010000
END:DAYLIGHT
BEGIN:STANDARD
TZOFFSETFROM:+0200
TZOFFSETTO:+0100
TZNAME:CET
DTSTART:20221030T010000
END:STANDARD
END:VTIMEZONE
BEGIN:VEVENT
DTSTART;TZID="Europe/Vienna":20221125T143000
DTEND;TZID="Europe/Vienna":20221125T143000
DTSTAMP:20260421T090105
CREATED:20220913T083314Z
LAST-MODIFIED:20220922T095759Z
UID:86484-1669386600-1669386600@www.strawanzerin.at
SUMMARY:Wohnprojekt SchloR. In der Reihe future:changes - Exkursion.
DESCRIPTION:SchloR (Schöner leben ohne Rendite) finanzierte den Bau der Wohn-\, Arbeits- und Kulturflächen über das Mietshäusersyndikat (in Österreich habiTAT). Sie entziehen über dieses Modell dauerhaft die Wohnungen dem freifinanzierten Immobilienmarkt.  \nBei einer Führung über das Gelände lernen wir das Wohnprojekt und das alternative Finanzierungsmodell des Mietshäusersyndikats kennen. \nSchloR ist am 22. November als future:changer zu Gast bei der Podiumsdiskussion „Die Häuser denen\, die drin wohnen“ in der Veranstaltungsreihe future:changes. \nAnmeldung erwünscht: anmeldung@ash-forum.at oder über www.ash-forum.at \n
URL:https://www.strawanzerin.at/termin/wohnprojekt-schlor-in-der-reihe-futurechanges-exkursion/
LOCATION:Wohnprojekt SchloR\, Rappachgasse 26\, Wien\, 1110\, Österreich
CATEGORIES:Recht auf Stadt
ATTACH;FMTTYPE=image/jpeg:https://www.strawanzerin.at/wp-content/uploads/2022/09/logo_schlor.jpg
END:VEVENT
END:VCALENDAR