BEGIN:VCALENDAR
VERSION:2.0
PRODID:-//STRAWANZERIN - ECPv4.9.5//NONSGML v1.0//EN
CALSCALE:GREGORIAN
METHOD:PUBLISH
X-WR-CALNAME:STRAWANZERIN
X-ORIGINAL-URL:https://www.strawanzerin.at
X-WR-CALDESC:Veranstaltungen im STRAWANZERIN
BEGIN:VTIMEZONE
TZID:"Europe/Vienna"
BEGIN:DAYLIGHT
TZOFFSETFROM:+0100
TZOFFSETTO:+0200
TZNAME:CEST
DTSTART:20230326T010000
END:DAYLIGHT
BEGIN:STANDARD
TZOFFSETFROM:+0200
TZOFFSETTO:+0100
TZNAME:CET
DTSTART:20231029T010000
END:STANDARD
END:VTIMEZONE
BEGIN:VEVENT
DTSTART;TZID="Europe/Vienna":20230901T190000
DTEND;TZID="Europe/Vienna":20230901T210000
DTSTAMP:20260420T212600
CREATED:20230817T095959Z
LAST-MODIFIED:20230817T095959Z
UID:92768-1693594800-1693602000@www.strawanzerin.at
SUMMARY:Wolf & Licht live im Stubenhocker
DESCRIPTION:Stefan Lichtenegger und Wolf Ratz\, beide Stimme und Gitarre\, setzen sich über Sprachbarrieren und Genregrenzen hinweg: Neues Wienerlied vs. Nueva Trova\, Chanson vs. Weltmusik auf Deutsch\, Spanisch und besonders gerne im vertrauten Dialekt. Großstadt-Retroromantik\, & Beislmelancholie. \n„Eine wilde\, aber herzliche Mischung aus authentischen Latin-Grooves\, Mundart\, Folk und Austropop – wer auf der Suche nach heimischen Sounds fernab ausgetretener Popbiz-Pfade ist: This one’s for you. Favoriten ist die Hauptstadt von Brasilien (DOT.magazine)“ \nWarmes Buffet ab 18:00 \nReservierungen: Tel 01 4811 446\, E-Mail: office@stubenhocker.at \n
URL:https://www.strawanzerin.at/termin/wolf-licht-live-im-stubenhocker/
LOCATION:Stubenhocker\, Wattgasse 23\, Wien\, Wien\, 1110\, Österreich
CATEGORIES:freie Spende
ATTACH;FMTTYPE=image/jpeg:https://www.strawanzerin.at/wp-content/uploads/2023/08/2020-Wolf-und-Licht-c-Daniel-Toro-Cortes.jpg
ORGANIZER;CN="Stubenhocker":MAILTO:office@stubenhocker.at
END:VEVENT
END:VCALENDAR