BEGIN:VCALENDAR
VERSION:2.0
PRODID:-//STRAWANZERIN - ECPv4.9.5//NONSGML v1.0//EN
CALSCALE:GREGORIAN
METHOD:PUBLISH
X-WR-CALNAME:STRAWANZERIN
X-ORIGINAL-URL:https://www.strawanzerin.at
X-WR-CALDESC:Veranstaltungen im STRAWANZERIN
BEGIN:VTIMEZONE
TZID:"Europe/Vienna"
BEGIN:DAYLIGHT
TZOFFSETFROM:+0100
TZOFFSETTO:+0200
TZNAME:CEST
DTSTART:20180325T010000
END:DAYLIGHT
BEGIN:STANDARD
TZOFFSETFROM:+0200
TZOFFSETTO:+0100
TZNAME:CET
DTSTART:20181028T010000
END:STANDARD
END:VTIMEZONE
BEGIN:VEVENT
DTSTART;TZID="Europe/Vienna":20180306T080000
DTEND;TZID="Europe/Vienna":20180306T170000
DTSTAMP:20260420T133804
CREATED:20180306T162513Z
LAST-MODIFIED:20180312T132337Z
UID:53280-1520323200-1520355600@www.strawanzerin.at
SUMMARY:Wolfgang F. Müller und Chris Ui mit multimedialen Momentaufnahmen im Spannungsfeld einer Wirklichkeit hinter der Wirklichkeit!
DESCRIPTION:Wolfgang F. MÜLLER „Poesie des Lichts“. Eikonogramme\, Mandalas\nChris UI (Christoph Uiberacker) „6 Variations of Church“\, „Untergang oder Solidarität?”\nKurzfilm\, Skulptur\, Performance \n
URL:https://www.strawanzerin.at/termin/wolfgang-f-mueller-und-chris-ui-mit-multimedialen-momentaufnahmen-im-spannungsfeld-einer-wirklichkeit-hinter-der-wirklichkeit/
LOCATION:Evangelische Pfarrgemeinde (Wien-Ottakring\, Markuskirche)\, Thaliastraße 156\, Wien\, Wien\, 1160\, Österreich
CATEGORIES:Ausstellung,Film,Gratis,Kunst/Kultur,Wien
ATTACH;FMTTYPE=image/jpeg:https://www.strawanzerin.at/wp-content/uploads/2018/03/2018_04_10-Markuskirche-vornehinten.jpg
ORGANIZER;CN="Ursula%20Pfeiffer%20verein%20%3A%3Akunst-projekte%3A%3A%20der%20%5Bgalerie%5Dstudio38%20zvr%20123612155":MAILTO:office@galeriestudio38.at
GEO:48.2134605;16.3072353
X-APPLE-STRUCTURED-LOCATION;VALUE=URI;X-ADDRESS=Evangelische Pfarrgemeinde (Wien-Ottakring Markuskirche) Thaliastraße 156 Wien Wien 1160 Österreich;X-APPLE-RADIUS=500;X-TITLE=Thaliastraße 156:geo:16.3072353,48.2134605
END:VEVENT
END:VCALENDAR