BEGIN:VCALENDAR
VERSION:2.0
PRODID:-//STRAWANZERIN - ECPv4.9.5//NONSGML v1.0//EN
CALSCALE:GREGORIAN
METHOD:PUBLISH
X-WR-CALNAME:STRAWANZERIN
X-ORIGINAL-URL:https://www.strawanzerin.at
X-WR-CALDESC:Veranstaltungen im STRAWANZERIN
BEGIN:VTIMEZONE
TZID:"Europe/Vienna"
BEGIN:DAYLIGHT
TZOFFSETFROM:+0100
TZOFFSETTO:+0200
TZNAME:CEST
DTSTART:20220327T010000
END:DAYLIGHT
BEGIN:STANDARD
TZOFFSETFROM:+0200
TZOFFSETTO:+0100
TZNAME:CET
DTSTART:20221030T010000
END:STANDARD
END:VTIMEZONE
BEGIN:VEVENT
DTSTART;TZID="Europe/Vienna":20220223T193000
DTEND;TZID="Europe/Vienna":20220223T210000
DTSTAMP:20260422T004454
CREATED:20220202T121744Z
LAST-MODIFIED:20220202T121744Z
UID:82579-1645644600-1645650000@www.strawanzerin.at
SUMMARY:WOLGA
DESCRIPTION:WOLGA\nvon Stephan Langer\nEine Produktion von Rohe Eier 3000 in Kooperation mit WERK X-Petersplatz\nInszenierung: Rohe Eier 3000\nUraufführung \nAller guten Dinge sind drei! Nach der lockdownbedingten zweimaligen Verschiebung der geplanten Premierentermine (im November 2020 bzw. April 2021) aufgrund von SARS-CoV-2 findet die Uraufführung von WOLGA nun im Februar 2022 statt. \n«sie sind unterwegs sie\nsind gesehen worden\nihr auto in schwarzem glanz\nihre köpfe hinter gestickten vorhängen\nsie holen eure kinder\nnehmt euch in acht!» \nMeterhohe Comiczeichnungen im Pulp-Stil formen sich zu einem Wald\, aus dem es kein Entrinnen gibt. Zwei Performer*innen ringen mit den Bildern\, die sie nicht mehr loslassen\, die immer da sind und kursieren\, in einem und um einen herum. Im Zentrum des Ganzen: der Wolga\, das Auto. Angelockt durch die ständig darum kreisenden Gedanken fährt er vor\, verfolgt die Performer*innen\, und sie verfolgen seine Spur in ihren Köpfen. Er wird minutiös untersucht\, mit Blut gewaschen\, mit Popsongs und Kunstliedern beschworen und gehuldigt. \nIn sozialistischen Staaten der 1960er und 70er Jahre\, etwa in Polen oder Rumänien\, kursierte die Legende von der schwarzen Wolga-Limousine: Priester\, Satanist*innen\, Vampire sollen darin Kinder entführt haben\, um ihr Blut an reiche Deutsche zu verkaufen. Ausgehend von diesem urbanen Mythos schafft Rohe Eier 3000 mit WOLGA ein multimediales Horrorszenario aus der grellen Ästhetik von Giallo-Filmen\, zweidimensionaler Comicwelt\, Live-Musik von Ricaletto (u. a. Pisse) plus performativem Spiel und Gesang. \nCAST\nMit: Lara Sienczak\, Florian Tröbinger\nKomposition/Live-Musik: Ricaletto\nBühne: Artemiy Shokin\, Crippa Almqvist & Ricaletto (Zeichnungen)\nKostüm: Artemiy Shokin\nDramaturgie: Alba Talamo\nProduktionsleitung: Sophie Steinbeck \nGefördert von Stadt Wien\, Bundesministerium Kunst\, Kultur\, öffentlicher Dienst und Sport \n
URL:https://www.strawanzerin.at/termin/wolga/2022-02-23/
LOCATION:WERK X-Petersplatz\, Petersplatz 1\, Wien\, Wien\, 1010\, Österreich
CATEGORIES:Theater/Kabarett
ATTACH;FMTTYPE=image/jpeg:https://www.strawanzerin.at/wp-content/uploads/2022/01/1920x1080_Rohe-Eier-3000_WOLGAcMo-MenzerRicaletto.jpg
END:VEVENT
END:VCALENDAR