BEGIN:VCALENDAR
VERSION:2.0
PRODID:-//STRAWANZERIN - ECPv4.9.5//NONSGML v1.0//EN
CALSCALE:GREGORIAN
METHOD:PUBLISH
X-WR-CALNAME:STRAWANZERIN
X-ORIGINAL-URL:https://www.strawanzerin.at
X-WR-CALDESC:Veranstaltungen im STRAWANZERIN
BEGIN:VTIMEZONE
TZID:"Europe/Vienna"
BEGIN:DAYLIGHT
TZOFFSETFROM:+0100
TZOFFSETTO:+0200
TZNAME:CEST
DTSTART:20250330T010000
END:DAYLIGHT
BEGIN:STANDARD
TZOFFSETFROM:+0200
TZOFFSETTO:+0100
TZNAME:CET
DTSTART:20251026T010000
END:STANDARD
END:VTIMEZONE
BEGIN:VEVENT
DTSTART;TZID="Europe/Vienna":20250904T180000
DTEND;TZID="Europe/Vienna":20250904T200000
DTSTAMP:20260421T003846
CREATED:20250828T082150Z
LAST-MODIFIED:20250828T082150Z
UID:109183-1757008800-1757016000@www.strawanzerin.at
SUMMARY:„Wolken kann man nicht bauen“*
DESCRIPTION:Vortrag & Diskussion\nDie Utopie sieht Ranjit Hoskote „als ein Leitmotiv des architektonischen Denkens der Moderne“. Wie werden gebaute Utopien ihren Ansprüchen gerecht? Dieser Frage geht er in seinem Vortrag kritisch nach. \n„Bauen bedeutet\, einem Traum eine konkrete Form zu geben“\, schreibt Hoskote in seinem Essay für das Buch „Abundance Not Capital“\, das begleitend zur Ausstellung „Reichtum statt Kapital. Anupama Kundoo“ erscheint. Projekte wie Chandigarh oder Auroville können als unterschiedliche „Wetten“ auf die Zukunft gesehen werden\, bei denen der Architekt zum „Erlöser der leidenden Menschheit“ wird – würde ihm nicht die Realität dazwischen kommen. Anschließend an seinen Vortrag diskutiert Hoskote mit den Herausgeberinnen Angelika Fitz und Elke Krasny sowie der Architektin Anupama Kundoo Möglichkeiten einer transformativen Architekturpraxis. Kann Architektur die Welt zum Besseren verändern und wenn\, wie? \n*Ludwig Wittgenstein \nEinführung: Angelika Fitz und Elke Krasny\, Kuratorinnen der Ausstellung\nVortrag: Ranjit Hoskote\, Kulturtheoretiker und Dichter\nAnschließend Gespräch mit zusätzlich Anupama Kundoo \nArchitekturzentrum Wien – Podium\nArchitekturzentrum Wien\, Museumsplatz 1 1070 Wien \nEintrittspreise\nEintritt frei \nVortag in englischer Sprache \nRückfragen\nLene Benz\n+43-1-522 31 15-17\nbenz@azw.at \n
URL:https://www.strawanzerin.at/termin/wolken-kann-man-nicht-bauen/
LOCATION:Architekturzentrum Wien\, Museumsplatz 1\, 1070 Wien\, 1070\, Österreich
GEO:48.2026499;16.3591421
X-APPLE-STRUCTURED-LOCATION;VALUE=URI;X-ADDRESS=Architekturzentrum Wien Museumsplatz 1 1070 Wien 1070 Österreich;X-APPLE-RADIUS=500;X-TITLE=Museumsplatz 1:geo:16.3591421,48.2026499
END:VEVENT
END:VCALENDAR