BEGIN:VCALENDAR
VERSION:2.0
PRODID:-//STRAWANZERIN - ECPv4.9.5//NONSGML v1.0//EN
CALSCALE:GREGORIAN
METHOD:PUBLISH
X-WR-CALNAME:STRAWANZERIN
X-ORIGINAL-URL:https://www.strawanzerin.at
X-WR-CALDESC:Veranstaltungen im STRAWANZERIN
BEGIN:VTIMEZONE
TZID:"Europe/Vienna"
BEGIN:DAYLIGHT
TZOFFSETFROM:+0100
TZOFFSETTO:+0200
TZNAME:CEST
DTSTART:20240331T010000
END:DAYLIGHT
BEGIN:STANDARD
TZOFFSETFROM:+0200
TZOFFSETTO:+0100
TZNAME:CET
DTSTART:20241027T010000
END:STANDARD
END:VTIMEZONE
BEGIN:VEVENT
DTSTART;TZID="Europe/Vienna":20240411T180000
DTEND;TZID="Europe/Vienna":20240411T180000
DTSTAMP:20260421T031739
CREATED:20240330T165716Z
LAST-MODIFIED:20240330T165716Z
UID:97743-1712858400-1712858400@www.strawanzerin.at
SUMMARY:"Women workers! [Join] under the red banner!” Peasant women’s labour activism in late 19th- and early 20th-century Hungary
DESCRIPTION:Vortrag \nThe presentation focuses on peasant women’s labour activism\, which arose in the so-called “Stormy Corner” in the southeastern part of the Habsburg Empire in the 1890s. The region was known for its repeated harvesters’ strikes and peasant uprisings and became one of the first centers of agrarian socialist organizing in Hungary. By engaging in the inclusive aspects of peasant women’s labour activism and participation in the agrarian socialist movement in the Eastern European countryside\, the presentation offers new insights into a yet little explored part of the history of women’s social movements. \nMit Eszter Varsa (social historian\, Ph.D. in Comparative Gender Studies\, Research Affiliate bei Projekt ZARAH: Women’s Labour Activism in Eastern Europe and Transnationally from the Age of Empires to the late 20th Century\, CEU Wien) \nModeration: Tara Pire \nOrt: Frauenbildungsstätte Frauenhetz\, Untere Weißgerberstraße 41\, 1030 Wien \nDie Teilnahme ist auch per Zoom möglich. Anmeldung bis Mittwoch\, 10. April 2024\, 12:00 an pr@frauenhetz.at \nDer Vortrag findet auf Englisch statt. \nGefördert aus Mitteln der Österreichischen Gesellschaft für Politische Bildung \n
URL:https://www.strawanzerin.at/termin/women-workers-join-under-the-red-banner-peasant-womens-labour-activism-in-late-19th-and-early-20th-century-hungary/
LOCATION:Frauenbildungsstätte Frauenhetz\, Untere Weißgerberstraße 41\, Wien\, Wien\, 1030\, Österreich
CATEGORIES:Barrierefrei,Bildung,Englisch,Feminismus,Gratis,Soziale Kämpfe,Vortrag/Symposium,Wien
GEO:48.2084854;16.3946163
X-APPLE-STRUCTURED-LOCATION;VALUE=URI;X-ADDRESS=Frauenbildungsstätte Frauenhetz Untere Weißgerberstraße 41 Wien Wien 1030 Österreich;X-APPLE-RADIUS=500;X-TITLE=Untere Weißgerberstraße 41:geo:16.3946163,48.2084854
END:VEVENT
END:VCALENDAR