BEGIN:VCALENDAR
VERSION:2.0
PRODID:-//STRAWANZERIN - ECPv4.9.5//NONSGML v1.0//EN
CALSCALE:GREGORIAN
METHOD:PUBLISH
X-WR-CALNAME:STRAWANZERIN
X-ORIGINAL-URL:https://www.strawanzerin.at
X-WR-CALDESC:Veranstaltungen im STRAWANZERIN
BEGIN:VTIMEZONE
TZID:"Europe/Helsinki"
BEGIN:DAYLIGHT
TZOFFSETFROM:+0200
TZOFFSETTO:+0300
TZNAME:EEST
DTSTART:20140330T010000
END:DAYLIGHT
BEGIN:STANDARD
TZOFFSETFROM:+0300
TZOFFSETTO:+0200
TZNAME:EET
DTSTART:20141026T010000
END:STANDARD
END:VTIMEZONE
BEGIN:VEVENT
DTSTART;TZID="Europe/Helsinki":20141021T170000
DTEND;TZID="Europe/Helsinki":20141021T200000
DTSTAMP:20260421T152350
CREATED:20140927T200610Z
LAST-MODIFIED:20141006T081232Z
UID:7604-1413910800-1413921600@www.strawanzerin.at
SUMMARY:Workshop Decoupagieren
DESCRIPTION:Die Kunst des Schneidens und Verklebens von Papier.\nMit dieser Technik können langweilige Einrichtungsgegenstände zum Eyecatcher werden und Papieransammlungen finden endlich eine wundervolle Verwendung! \nWorkshopleitung: Esther Engel\nAnmeldung: workshops@recyclingkosmos.at oder 0650 974 99 59 \n
URL:https://www.strawanzerin.at/termin/workshop-decoupagieren/
LOCATION:Recycling Kosmos Zentrale\, Ottakringer Straße 63\, Wien\, Wien\, 1160\, Österreich
CATEGORIES:ab 7,Deutsch,Kunst/Kultur,Wien,Workshop
ORGANIZER;CN="Recycling%20Kosmos":MAILTO:workshops@recyclingkosmos.at
GEO:48.2137812;16.3298013
X-APPLE-STRUCTURED-LOCATION;VALUE=URI;X-ADDRESS=Recycling Kosmos Zentrale Ottakringer Straße 63 Wien Wien 1160 Österreich;X-APPLE-RADIUS=500;X-TITLE=Ottakringer Straße 63:geo:16.3298013,48.2137812
END:VEVENT
END:VCALENDAR