BEGIN:VCALENDAR
VERSION:2.0
PRODID:-//STRAWANZERIN - ECPv4.9.5//NONSGML v1.0//EN
CALSCALE:GREGORIAN
METHOD:PUBLISH
X-WR-CALNAME:STRAWANZERIN
X-ORIGINAL-URL:https://www.strawanzerin.at
X-WR-CALDESC:Veranstaltungen im STRAWANZERIN
BEGIN:VTIMEZONE
TZID:"Europe/Helsinki"
BEGIN:DAYLIGHT
TZOFFSETFROM:+0200
TZOFFSETTO:+0300
TZNAME:EEST
DTSTART:20150329T010000
END:DAYLIGHT
BEGIN:STANDARD
TZOFFSETFROM:+0300
TZOFFSETTO:+0200
TZNAME:EET
DTSTART:20151025T010000
END:STANDARD
END:VTIMEZONE
BEGIN:VEVENT
DTSTART;TZID="Europe/Helsinki":20151106T190000
DTEND;TZID="Europe/Helsinki":20151106T210000
DTSTAMP:20260421T010246
CREATED:20151104T114306Z
LAST-MODIFIED:20151111T104002Z
UID:21479-1446836400-1446843600@www.strawanzerin.at
SUMMARY:Workshop: Die Grausamkeiten der 'Anderen': Ethnisierung und Religionisierung in Afrika-bezogenen Nachrichten
DESCRIPTION:Der Workshop setzt sich zum Ziel\, Sensationsnachrichten\, die aus dem afrikanischen Kontinent zu uns dringen\, kritisch zu beleuchten. Zu diesem Zweck werden Zeitungsartikel der österreichischen Gratiszeitungen HEUTE und ÖSTERREICH\, die täglich von mehr als 1\,5 Millionen Menschen gelesen werden\, analysiert. \n
URL:https://www.strawanzerin.at/termin/workshop-die-grausamkeiten-der-anderen-ethnisierung-und-religionisierung-in-afrika-bezogenen-nachrichten/
LOCATION:Österreich
CATEGORIES:Antirassimus,Deutsch,Gratis,Wien,Workshop
ORGANIZER;CN="Initiative%20AFRI-EUROTEXT":MAILTO:office@afrieurotext.at
END:VEVENT
END:VCALENDAR