BEGIN:VCALENDAR
VERSION:2.0
PRODID:-//STRAWANZERIN - ECPv4.9.5//NONSGML v1.0//EN
CALSCALE:GREGORIAN
METHOD:PUBLISH
X-WR-CALNAME:STRAWANZERIN
X-ORIGINAL-URL:https://www.strawanzerin.at
X-WR-CALDESC:Veranstaltungen im STRAWANZERIN
BEGIN:VTIMEZONE
TZID:"Europe/Helsinki"
BEGIN:DAYLIGHT
TZOFFSETFROM:+0200
TZOFFSETTO:+0300
TZNAME:EEST
DTSTART:20160327T010000
END:DAYLIGHT
BEGIN:STANDARD
TZOFFSETFROM:+0300
TZOFFSETTO:+0200
TZNAME:EET
DTSTART:20161030T010000
END:STANDARD
END:VTIMEZONE
BEGIN:VEVENT
DTSTART;TZID="Europe/Helsinki":20161011T180000
DTEND;TZID="Europe/Helsinki":20161011T210000
DTSTAMP:20260421T134920
CREATED:20160921T085525Z
LAST-MODIFIED:20160928T144650Z
UID:34000-1476208800-1476219600@www.strawanzerin.at
SUMMARY:Workshop: Fleckerl Flick Service
DESCRIPTION:Der Verein Recycling Kosmos veranstaltet im Herbst eine Workshopreihe in Kooperation mit der MA 48 und der Umweltmusterstadt Wien zum Thema: Reparatur und Upcycling.\nwww.recyclingkosmos.at \nMit selbst gemachten Flecken wird aus alten Kleidungsstücken etwas Neues.  \nIm Workshop wird gelernt\, wie dekorative Flecken angefertigt werden\, mit denen Kleidung „aufgepimpt“ und/ oder repariert werden kann. Vorlagen sind vorhanden\, es können aber auch eigene Motive entworfen und umgesetzt werden!\nDer Workshop richtet sich an alle\, die gerne nähen\, Spaß am Reparieren und Basteln haben\, gerne Stoffe verarbeiten\, nicht immer alte Kleidung wegschmeißen wollen und diejenigen\, die sich immer schon gefragt haben\, wie man ungeliebte Kleidung auffrischen kann. \nWorkshopleitung: Maria Sulzer\, http://kamakoma.co.uk/\nMaterialbeitrag: EUR 3\,50.-\nDauer: 3 Stunden \nAnmeldung bitte per mail an: workshops@recyclingkosmos.at \n
URL:https://www.strawanzerin.at/termin/workshop-fleckerl-flick-service/
LOCATION:Recycling Kosmos Zentrale\, Ottakringer Straße 63\, Wien\, Wien\, 1160\, Österreich
CATEGORIES:bis 7,Deutsch,Wien,Workshop
ATTACH;FMTTYPE=image/jpeg:https://www.strawanzerin.at/wp-content/uploads/2016/09/FleckerlFlickservice2_MariaSulzer.jpg
GEO:48.2137812;16.3298013
X-APPLE-STRUCTURED-LOCATION;VALUE=URI;X-ADDRESS=Recycling Kosmos Zentrale Ottakringer Straße 63 Wien Wien 1160 Österreich;X-APPLE-RADIUS=500;X-TITLE=Ottakringer Straße 63:geo:16.3298013,48.2137812
END:VEVENT
END:VCALENDAR