BEGIN:VCALENDAR
VERSION:2.0
PRODID:-//STRAWANZERIN - ECPv4.9.5//NONSGML v1.0//EN
CALSCALE:GREGORIAN
METHOD:PUBLISH
X-WR-CALNAME:STRAWANZERIN
X-ORIGINAL-URL:https://www.strawanzerin.at
X-WR-CALDESC:Veranstaltungen im STRAWANZERIN
BEGIN:VTIMEZONE
TZID:"Europe/Helsinki"
BEGIN:DAYLIGHT
TZOFFSETFROM:+0200
TZOFFSETTO:+0300
TZNAME:EEST
DTSTART:20160327T010000
END:DAYLIGHT
BEGIN:STANDARD
TZOFFSETFROM:+0300
TZOFFSETTO:+0200
TZNAME:EET
DTSTART:20161030T010000
END:STANDARD
END:VTIMEZONE
BEGIN:VEVENT
DTSTART;TZID="Europe/Helsinki":20161017T180000
DTEND;TZID="Europe/Helsinki":20161017T210000
DTSTAMP:20260421T040502
CREATED:20160921T090424Z
LAST-MODIFIED:20160928T144811Z
UID:34006-1476727200-1476738000@www.strawanzerin.at
SUMMARY:Workshop: Gestalten mit Elektroschrott und Abfallmaterialien
DESCRIPTION:Der Verein Recycling Kosmos veranstaltet eine Workshopreihe im Herbst in Kooperation mit der MA 48 und der Umweltmusterstadt Wien zum Thema: Reparatur und Upcycling.\nwww.recyclingkosmos.at \nEin multimedialer\, kunsttherapeutischer Workshop: Kurze kunsttherapeutische Übungen helfen beim Einstieg und bei der Findung des persönlichen Themas: Was möchte ich gestalten? \nAbfallmaterialien aller Art stehen zur Verfügung. In der ersten Phase des Workshops zerlegen wir kaputte Elektroaltgeräte und erforschen ihr Innenleben. Aus welchen Teilen besteht ein Staubsauger\, was ist in einem Computer drinnen? Hier geht es um neugieriges Forschen und Entdecken. Anschließend bauen wir aus dem zerlegten Material\, Figuren\, Tiere\, lustige Phantasiegeräte oder andere Objekte\, die wir in Szene setzen und „lebendig“ werden lassen. \nWorkshopleitung: Angela Zwettler\, http://www.angelazwettler.com/\nMaterialbeitrag: EUR 3\,50.- Mitnahme von alten Elektrogeräten und interessanten Abfällen willkommen \nAnmeldung bitte per mail an: workshops@recyclingkosmos.at \n
URL:https://www.strawanzerin.at/termin/workshop-gestalten-mit-elektroschrott-und-abfallmaterialien/
LOCATION:Recycling Kosmos Zentrale\, Ottakringer Straße 63\, Wien\, Wien\, 1160\, Österreich
CATEGORIES:bis 7,Wien,Workshop
ATTACH;FMTTYPE=image/jpeg:https://www.strawanzerin.at/wp-content/uploads/2016/09/Bohrmaschine.jpg
GEO:48.2137812;16.3298013
X-APPLE-STRUCTURED-LOCATION;VALUE=URI;X-ADDRESS=Recycling Kosmos Zentrale Ottakringer Straße 63 Wien Wien 1160 Österreich;X-APPLE-RADIUS=500;X-TITLE=Ottakringer Straße 63:geo:16.3298013,48.2137812
END:VEVENT
END:VCALENDAR