BEGIN:VCALENDAR
VERSION:2.0
PRODID:-//STRAWANZERIN - ECPv4.9.5//NONSGML v1.0//EN
CALSCALE:GREGORIAN
METHOD:PUBLISH
X-WR-CALNAME:STRAWANZERIN
X-ORIGINAL-URL:https://www.strawanzerin.at
X-WR-CALDESC:Veranstaltungen im STRAWANZERIN
BEGIN:VTIMEZONE
TZID:"Europe/Helsinki"
BEGIN:DAYLIGHT
TZOFFSETFROM:+0200
TZOFFSETTO:+0300
TZNAME:EEST
DTSTART:20160327T010000
END:DAYLIGHT
BEGIN:STANDARD
TZOFFSETFROM:+0300
TZOFFSETTO:+0200
TZNAME:EET
DTSTART:20161030T010000
END:STANDARD
END:VTIMEZONE
BEGIN:VEVENT
DTSTART;TZID="Europe/Helsinki":20161116T170000
DTEND;TZID="Europe/Helsinki":20161116T200000
DTSTAMP:20260420T144805
CREATED:20161031T154004Z
LAST-MODIFIED:20161031T154004Z
UID:35910-1479315600-1479326400@www.strawanzerin.at
SUMMARY:Workshop: Upcycle mit Material aus der Material-Koje
DESCRIPTION:In diesem Workshop entwerfen die Teilnehmer*innen Aufbewahrungs- und Ordnungshilfen aus Karton\, Kunststoffen\, Naturmaterialien\, Gläsern\, Verpackungen\, Holzresten und diversen anderen Materialien. \nEs stehen verschiedene Arbeitsmaterialien aus der Material-Koje des Recycling-Kosmos zur Verfügung. Gearbeitet wird mit verschiedenen TECHNIKEN\, z.B. Lochtechniken\, Schneidetechniken\, Klebetechniken\, Schnür- und Knotentechniken\, Falttechniken\, Klopftechnik\, Nähtechnik etc. \nZIEL ist es\, Gegenstände entsprechend den jeweiligen Bedürfnissen anzufertigen (zum Beispiel: Boxen mit Überraschungseffekt; Haken für Prospekte\, Ordner für Zettel und Visitenkarten; Ablagesysteme; Kabelkanäle zum Verstauen von „Kabelsalaten“ etc.). \nWir halten Anregungen bereit und geben Hilfestellung\, aber es ist der Kreativität der TeilnehmerInnen überlassen\, was entworfen und umgesetzt wird. \nWorkshop-Leitung: Maria Sulzer\, www.kamakoma.co.uk\nMaterialbeitrag: individuell\, je nach verwendetem Material \nDieser Workshop findet in Kooperation mit der MA48 und der Umweltmusterstadt Wien statt. \nAnmeldung erforderlich: workshops@recyclingkosmos.at (bitte bis Mo\, 14.11.) \n
URL:https://www.strawanzerin.at/termin/workshop-upcycle-mit-material-aus-der-material-koje/
LOCATION:Recycling Kosmos Zentrale\, Ottakringer Straße 63\, Wien\, Wien\, 1160\, Österreich
CATEGORIES:Wien,Workshop
ATTACH;FMTTYPE=image/jpeg:https://www.strawanzerin.at/wp-content/uploads/2016/10/materialkoje-upcycle.jpg
GEO:48.2137812;16.3298013
X-APPLE-STRUCTURED-LOCATION;VALUE=URI;X-ADDRESS=Recycling Kosmos Zentrale Ottakringer Straße 63 Wien Wien 1160 Österreich;X-APPLE-RADIUS=500;X-TITLE=Ottakringer Straße 63:geo:16.3298013,48.2137812
END:VEVENT
END:VCALENDAR