BEGIN:VCALENDAR
VERSION:2.0
PRODID:-//STRAWANZERIN - ECPv4.9.5//NONSGML v1.0//EN
CALSCALE:GREGORIAN
METHOD:PUBLISH
X-WR-CALNAME:STRAWANZERIN
X-ORIGINAL-URL:https://www.strawanzerin.at
X-WR-CALDESC:Veranstaltungen im STRAWANZERIN
BEGIN:VTIMEZONE
TZID:"Europe/Vienna"
BEGIN:DAYLIGHT
TZOFFSETFROM:+0100
TZOFFSETTO:+0200
TZNAME:CEST
DTSTART:20220327T010000
END:DAYLIGHT
BEGIN:STANDARD
TZOFFSETFROM:+0200
TZOFFSETTO:+0100
TZNAME:CET
DTSTART:20221030T010000
END:STANDARD
END:VTIMEZONE
BEGIN:VEVENT
DTSTART;TZID="Europe/Vienna":20220723T100000
DTEND;TZID="Europe/Vienna":20220723T180000
DTSTAMP:20260420T215819
CREATED:20220530T105948Z
LAST-MODIFIED:20220530T105948Z
UID:85125-1658570400-1658599200@www.strawanzerin.at
SUMMARY:Workshop: Zur Sprache kommen
DESCRIPTION:In drei Workshops – Geschichte der Zweiten Frauenbewegung (1)\, Divergierende feministische Strömungen (2)\, Geschlechtergerechte Sprache (3) – werden Hintergründe zur Position von Frauen in Kultur und Gesellschaft besprochen: „Geschichte der Frauenbewegung“ startet Ende Juli. Es wird die Entwicklung der westeuropäischen Frauenbewegungen nachgezeichnet und diskutiert. \nDie Vortragende Mag. Dr. Birge Krondorfer ist politische Philosophin und feministisch tätig. \nOrt: In Kooperation mit der Frauenhetz\, Wien. \n
URL:https://www.strawanzerin.at/termin/workshop-zur-sprache-kommen/2022-07-23/
LOCATION:Frauenbildungsstätte Frauenhetz\, Untere Weißgerberstraße 41\, Wien\, Wien\, 1030\, Österreich
CATEGORIES:Literatur
ORGANIZER;CN="IGfemAT":MAILTO:yes@igfem.at
GEO:48.2084854;16.3946163
X-APPLE-STRUCTURED-LOCATION;VALUE=URI;X-ADDRESS=Frauenbildungsstätte Frauenhetz Untere Weißgerberstraße 41 Wien Wien 1030 Österreich;X-APPLE-RADIUS=500;X-TITLE=Untere Weißgerberstraße 41:geo:16.3946163,48.2084854
END:VEVENT
END:VCALENDAR