BEGIN:VCALENDAR
VERSION:2.0
PRODID:-//STRAWANZERIN - ECPv4.9.5//NONSGML v1.0//EN
CALSCALE:GREGORIAN
METHOD:PUBLISH
X-WR-CALNAME:STRAWANZERIN
X-ORIGINAL-URL:https://www.strawanzerin.at
X-WR-CALDESC:Veranstaltungen im STRAWANZERIN
BEGIN:VTIMEZONE
TZID:"Europe/Vienna"
BEGIN:DAYLIGHT
TZOFFSETFROM:+0100
TZOFFSETTO:+0200
TZNAME:CEST
DTSTART:20170326T010000
END:DAYLIGHT
BEGIN:STANDARD
TZOFFSETFROM:+0200
TZOFFSETTO:+0100
TZNAME:CET
DTSTART:20171029T010000
END:STANDARD
END:VTIMEZONE
BEGIN:VEVENT
DTSTART;TZID="Europe/Vienna":20170519T180000
DTEND;TZID="Europe/Vienna":20170519T210000
DTSTAMP:20260420T161235
CREATED:20170509T152935Z
LAST-MODIFIED:20170511T105034Z
UID:43864-1495216800-1495227600@www.strawanzerin.at
SUMMARY:Youth Energy Slam
DESCRIPTION:Der Slam zum Thema Energie: Wie schaut eine Welt ohne Erdöl aus? \nFreuen Sie sich auf einen spannenden Abend mit kreativen Texten von Jugendlichen. Für alle\, sie einen ispirierenden Abend erleben wollen. \nEintritt frei! \nHier gibts alle Infos auf einem Blick: http://www.risikodialog.at/ms/risikodialog/youthenergyslam/ \n
URL:https://www.strawanzerin.at/termin/youth-energy-slam/
LOCATION:Impact Hub Vienna\, Lindengasse 56\, Wien\, Wien\, 1070\, Österreich
CATEGORIES:Deutsch,Eintrittspreis,Gratis,Literatur,Ökologie,Region/Bundesland,Theater/Kabarett,Veranstaltungssprache,Wien
ATTACH;FMTTYPE=image/jpeg:https://www.strawanzerin.at/wp-content/uploads/2017/05/Fotolia_138580198_L_-Argus_gross.jpg
GEO:48.1995241;16.3457977
X-APPLE-STRUCTURED-LOCATION;VALUE=URI;X-ADDRESS=Impact Hub Vienna Lindengasse 56 Wien Wien 1070 Österreich;X-APPLE-RADIUS=500;X-TITLE=Lindengasse 56:geo:16.3457977,48.1995241
END:VEVENT
END:VCALENDAR