BEGIN:VCALENDAR
VERSION:2.0
PRODID:-//STRAWANZERIN - ECPv4.9.5//NONSGML v1.0//EN
CALSCALE:GREGORIAN
METHOD:PUBLISH
X-WR-CALNAME:STRAWANZERIN
X-ORIGINAL-URL:https://www.strawanzerin.at
X-WR-CALDESC:Veranstaltungen im STRAWANZERIN
BEGIN:VTIMEZONE
TZID:"Europe/Helsinki"
BEGIN:DAYLIGHT
TZOFFSETFROM:+0200
TZOFFSETTO:+0300
TZNAME:EEST
DTSTART:20140330T010000
END:DAYLIGHT
BEGIN:STANDARD
TZOFFSETFROM:+0300
TZOFFSETTO:+0200
TZNAME:EET
DTSTART:20141026T010000
END:STANDARD
END:VTIMEZONE
BEGIN:VEVENT
DTSTART;TZID="Europe/Helsinki":20141104T150000
DTEND;TZID="Europe/Helsinki":20141104T173000
DTSTAMP:20260421T152445
CREATED:20141029T140545Z
LAST-MODIFIED:20141029T140545Z
UID:8333-1415113200-1415122200@www.strawanzerin.at
SUMMARY:Zerleg-Workshop
DESCRIPTION:In drei speziell für Mädchen konzipierten Zerlege-Workshops wird im Recycling-Kosmos das Innenleben kaputter Elektroaltgeräte erforscht. Anschließend können aus dem zerlegten Material\, Figuren\, Tiere\, neue Phantasiegeräte oder lustige Objekte gebaut werden. Werkzeug wie Schraubenzieher\, Hammer\, Draht und Kleber stehen zur Verfügung.\nWie schaut das Innenleben eines Radios aus? Was ist drinnen in einem Staubsauger oder in einer Computermaus? Beim sogenannten „Rückwärtsengineering“ werden die Konstruktion und die Funktion der Dinge einsichtig. Und was lässt sich aus den zerlegten Teilen Neues anfertigen? Da können eigene\, kreative Konstruktionen umgesetzt werden. Diese Workshops werden von Angela Zwettler\, multimediale Kunsttherapeutin und Künstlerin\, angeboten. \nWorkshopleitung: Angela Zwettler\, multimedial Kunsttherapeutin und Künstlerin \nKosten: € 5/für Mitglieder (eule\, Reko oder Geschwisterkinder) €3 \nAnmeldung: 0650 974 99 59 oder zwettangel@chello.at \n
URL:https://www.strawanzerin.at/termin/zerleg-workshop/2014-11-04/
LOCATION:Recycling Kosmos Zentrale\, Ottakringer Straße 63\, Wien\, Wien\, 1160\, Österreich
CATEGORIES:bis 7,Deutsch,Sonstiges,Wien,Workshop
ATTACH;FMTTYPE=image/jpeg:https://www.strawanzerin.at/wp-content/uploads/2014/10/ZerlegWS.jpeg
ORGANIZER;CN="Recycling%20Kosmos":MAILTO:helmut@kabelmann.at
GEO:48.2137812;16.3298013
X-APPLE-STRUCTURED-LOCATION;VALUE=URI;X-ADDRESS=Recycling Kosmos Zentrale Ottakringer Straße 63 Wien Wien 1160 Österreich;X-APPLE-RADIUS=500;X-TITLE=Ottakringer Straße 63:geo:16.3298013,48.2137812
END:VEVENT
END:VCALENDAR