BEGIN:VCALENDAR
VERSION:2.0
PRODID:-//STRAWANZERIN - ECPv4.9.5//NONSGML v1.0//EN
CALSCALE:GREGORIAN
METHOD:PUBLISH
X-WR-CALNAME:STRAWANZERIN
X-ORIGINAL-URL:https://www.strawanzerin.at
X-WR-CALDESC:Veranstaltungen im STRAWANZERIN
BEGIN:VTIMEZONE
TZID:"Europe/Helsinki"
BEGIN:DAYLIGHT
TZOFFSETFROM:+0200
TZOFFSETTO:+0300
TZNAME:EEST
DTSTART:20150329T010000
END:DAYLIGHT
BEGIN:STANDARD
TZOFFSETFROM:+0300
TZOFFSETTO:+0200
TZNAME:EET
DTSTART:20151025T010000
END:STANDARD
END:VTIMEZONE
BEGIN:VEVENT
DTSTART;TZID="Europe/Helsinki":20150705T080000
DTEND;TZID="Europe/Helsinki":20150705T190000
DTSTAMP:20260421T123354
CREATED:20150120T122227Z
LAST-MODIFIED:20150120T122437Z
UID:10983-1436083200-1436122800@www.strawanzerin.at
SUMMARY:Zivilgesellschaft im Konflikt: Vom Gelingen und Scheitern in Krisengebieten
DESCRIPTION:SOMMERAKADEMIE 2015\n5. bis 9. Juli an der Friedensburg Schlaining \nZivilgesellschaft im Konflikt: Vom Gelingen und Scheitern in Krisengebieten \nDie nächste Sommerakademie an der Friedensburg Schlaining widmet sich der Thematik des zivilgesellschaftlichen Engagements in Krisen und Konflikten. Welche Konzepte und Ideen liegen dem Begriff der Zivilgesellschaft zugrunde? Worin unterscheiden sich einzelne Zugänge in Theorie und Praxis? Welche Möglichkeiten haben zivilgesellschaftliche AkteurInnen zur Umsetzung ihrer eigenen Ziele\, und wie sehr sind diese mit den Bedürfnissen der betroffenen Menschen in den jeweiligen Konflikten kompatibel? An welche Grenzen stoßen zivilgesellschaftliche Initiativen dabei und aus welchen Gründen? Dazu will die Sommerakademie ein umfassendes und kritisches Forum für alle Interessierten sein – unabhängig von ihrem Vorwissen\, ihrer Ausbildung oder aktuellen (Berufs-)Tätigkeit. \nDie Zivilgesellschaft hat schon seit Jahrzehnten eine tragende Rolle in der Konfliktbearbeitung weltweit. Ob in Friedensverhandlungen\, der humanitären Hilfe in Kriegen und bei Katastrophen oder in der Entwicklungszusammenarbeit – zivilgesellschaftliches Engagement in Krisengebieten ist nicht wegzudenken. Dabei stoßen zivilgesellschaftliche AkteurInnen oft auch an ihre Grenzen. Auch ist häufig eine Kooperation nicht nur mit anderen zivilgesellschaftlichen\, sondern ebenso mit staatlichen oder militärischen AkteurInnen notwendig. Doch diese Zusammenarbeit gestaltet sich mitunter schwierig und scheitert in einigen Fällen. Konflikte ergeben sich aber auch zwischen nicht-staatlichen internationalen AkteurInnen und den lokalen Hilfskräften und Nichtregierungsorganisationen vor Ort\, etwa wenn letztere etwa zu wenig in internationale Initiativen eingebunden werden oder lokale Expertise unberücksichtigt bleibt. \nÜber Möglichkeiten und Grenzen zivilgesellschaftlichen Engagements in der internationalen Konfliktbearbeitung sprechen und diskutieren von 5. bis 9. Juli 2015 über 20 ExpertInnen aus Zivilgesellschaft\, Wissenschaft\, Politik und Staatsdienst. Die Veranstaltung wird im Rahmen des Conflict\, Peace and Democracy Clusters (CPDC) vom Österreichischen Studienzentrum für Frieden und Konfliktlösung gemeinsam mit dem Zentrum für Friedensforschung und Friedenspädagogik (Universität Klagenfurt)\, dem Demokratiezentrum Wien sowie dem Institut für Konfliktforschung (Wien) organisiert. \nAktuelle Informationen zur Sommerakademie gibt es regelmäßig auf unserer Facebook-Seite unter https://www.facebook.com/Friedensburg.Schlaining. \nFür Rückfragen und nähere Informationen stehe ich Ihnen bzw. Euch sehr gerne zur Verfügung. \nMit freundlichen Grüßen von der Burg Schlaining \nMaximilian Lakitsch \nDr. Maximilian Lakitsch\, MMag.\, M.A. \nResearcher \n+43 (0)3355 2498 519 \nlakitsch@aspr.ac.at\nhttps://aspr.academia.edu/MaximilianLakitsch \nAustrian Study Center for Peace and \nConflict Resolution (ASPR) \nRochusplatz 1 \nA-7461 Stadtschlaining/Austria \nwww.aspr.ac.at \nLike us on Facebook: https://www.facebook.com/Friedensburg.Schlaining \n
URL:https://www.strawanzerin.at/termin/zivilgesellschaft-im-konflikt-vom-gelingen-und-scheitern-in-krisengebieten/2015-07-05/
LOCATION:Friedensburg Schlaining\, Burg Schlaining\, Stadtschlaining\, Burgenland\, 7461\, Österreich
CATEGORIES:ab 7,Antimilitarismus,Burgenland,Deutsch,Vortrag/Symposium
GEO:47.3225222;16.2742497
X-APPLE-STRUCTURED-LOCATION;VALUE=URI;X-ADDRESS=Friedensburg Schlaining Burg Schlaining Stadtschlaining Burgenland 7461 Österreich;X-APPLE-RADIUS=500;X-TITLE=Burg Schlaining:geo:16.2742497,47.3225222
END:VEVENT
END:VCALENDAR