BEGIN:VCALENDAR
VERSION:2.0
PRODID:-//STRAWANZERIN - ECPv4.9.5//NONSGML v1.0//EN
CALSCALE:GREGORIAN
METHOD:PUBLISH
X-WR-CALNAME:STRAWANZERIN
X-ORIGINAL-URL:https://www.strawanzerin.at
X-WR-CALDESC:Veranstaltungen im STRAWANZERIN
BEGIN:VTIMEZONE
TZID:"Europe/Paris"
BEGIN:DAYLIGHT
TZOFFSETFROM:+0100
TZOFFSETTO:+0200
TZNAME:CEST
DTSTART:20150329T010000
END:DAYLIGHT
BEGIN:STANDARD
TZOFFSETFROM:+0200
TZOFFSETTO:+0100
TZNAME:CET
DTSTART:20151025T010000
END:STANDARD
END:VTIMEZONE
BEGIN:VEVENT
DTSTART;TZID="Europe/Paris":20150507T200000
DTEND;TZID="Europe/Paris":20150507T230000
DTSTAMP:20260422T003553
CREATED:20150416T095423Z
LAST-MODIFIED:20150416T160612Z
UID:13915-1431028800-1431039600@www.strawanzerin.at
SUMMARY:Zur Wachauerin (Österreich)
DESCRIPTION:„Welche Stilrichtung? Volxmusikszene? Jazzszene? Crossoverszene? Da spielen zwei Gitarristen völlig unaufgeregt auf ihren Gitarren\, schaffen Stimmungen\, beschreiben Zustände\, und ein ebenfalls völlig unaufgeregter Literat macht\, was Literaten so machen: er liest seine Texte vor. Punkt. Mehr passiert nicht auf der Bühne. Aber wie hier quasi nix passiert\, ist schlicht und ergreifend sensationell.“ (Alfred Krondraf\, Concerto)\nDrei öffentlich redliche Herren nehmen den Bildungsauftrag ernst\, also heiter. Sagen\, Mythen\, Legenden und Historisches aus der Wachau und dem Waldviertel werden zum Stoff\, den man auf diese Weise in der Schule leider nie serviert bekommen hat\, Geschichtsunterricht vom Feinsten: wie einer dem Kirchenbann entkommen will\, wie von zehn Waldviertlern keiner überlebt\, wie der Schutzplanet aller Durstigen heißt – weder Musik noch Text will sich jeweils am anderen vorbeischlängeln\, Einheit statt Brei ist die kluge Devise. Ein vom Zeitgeist ungegängelter Wolfgang Kühn als Troubadour des 21. Jahrhunderts zu Michael Bruckner-Weinhubers filigraner\, empathischer Musik. \nWolfgang Kühn – Stimme\, Text\nMichael Bruckner-Weinhuber – Gitarre\nFabian Pollack – Gitarre  \n
URL:https://www.strawanzerin.at/termin/zur-wachauerin-oesterreich/
LOCATION:Sargfabrik\, Goldschlagstraße 169\, Wien\, Wien\, 1140\, Österreich
CATEGORIES:Deutsch,Eintrittspreis,Musik,Wien
ATTACH;FMTTYPE=image/jpeg:https://www.strawanzerin.at/wp-content/uploads/2015/04/ZurWachauerin_k_1505.jpg
GEO:48.1951903;16.3046279
X-APPLE-STRUCTURED-LOCATION;VALUE=URI;X-ADDRESS=Sargfabrik Goldschlagstraße 169 Wien Wien 1140 Österreich;X-APPLE-RADIUS=500;X-TITLE=Goldschlagstraße 169:geo:16.3046279,48.1951903
END:VEVENT
END:VCALENDAR