BEGIN:VCALENDAR
VERSION:2.0
PRODID:-//STRAWANZERIN - ECPv4.9.5//NONSGML v1.0//EN
CALSCALE:GREGORIAN
METHOD:PUBLISH
X-WR-CALNAME:STRAWANZERIN
X-ORIGINAL-URL:https://www.strawanzerin.at
X-WR-CALDESC:Veranstaltungen im STRAWANZERIN
BEGIN:VTIMEZONE
TZID:"Europe/Paris"
BEGIN:DAYLIGHT
TZOFFSETFROM:+0100
TZOFFSETTO:+0200
TZNAME:CEST
DTSTART:20170326T010000
END:DAYLIGHT
BEGIN:STANDARD
TZOFFSETFROM:+0200
TZOFFSETTO:+0100
TZNAME:CET
DTSTART:20171029T010000
END:STANDARD
END:VTIMEZONE
BEGIN:VEVENT
DTSTART;TZID="Europe/Paris":20170311T190000
DTEND;TZID="Europe/Paris":20170311T230000
DTSTAMP:20260420T115628
CREATED:20170303T101542Z
LAST-MODIFIED:20170303T101542Z
UID:40488-1489258800-1489273200@www.strawanzerin.at
SUMMARY:ZUSAMMENGEHEFTET - Abschlusslesung des Lehrgangs für Schreibpädagogik 2016/17
DESCRIPTION:Die Teilnehmerinnen des Lehrgangs Wiener Schreibpädagogik 2016/217 laden herzlich zu ihrer Abschlusslesung ein.  \nEs lesen: Maria Aschenwald\, Margit Billinger\, Elisabeth Dimminger\, Carina Greußing\, Gabriela Kainberger-Riedler\, Petra Schwiglhofer\, Marlies Thuswald\, Erika Walch-Sommer\, Eva Woska-Nimmervoll \nModeration: Barbara Rieger \nMusikalische Umrahmung: Gerhard Nimmervoll (Original Blues Songs)\nAusstellung „Vögelglück“ von Petrus Akkordeon.\nBuffet.  \n
URL:https://www.strawanzerin.at/termin/zusammengeheftet-abschlusslesung-des-lehrgangs-fuer-schreibpaedagogik-201617/
LOCATION:BOeS Atelier\, Vivenotgasse  30/2/2\, Wien\, Wien\, 1120\, Österreich
CATEGORIES:Deutsch,Gratis,Kunst/Kultur,Literatur,Region/Bundesland,Veranstaltungssprache,Wien
ATTACH;FMTTYPE=image/jpeg:https://www.strawanzerin.at/wp-content/uploads/2017/03/Cover-MargitsWortbild1.jpg
ORGANIZER;CN="BOeS":MAILTO:hannah.sideris@gmail.com
GEO:48.1785387;16.3311487
X-APPLE-STRUCTURED-LOCATION;VALUE=URI;X-ADDRESS=BOeS Atelier Vivenotgasse  30/2/2 Wien Wien 1120 Österreich;X-APPLE-RADIUS=500;X-TITLE=Vivenotgasse  30/2/2:geo:16.3311487,48.1785387
END:VEVENT
END:VCALENDAR